BEGIN:VCALENDAR
VERSION:2.0
PRODID:-//Visit Westerville - ECPv6.15.20//NONSGML v1.0//EN
CALSCALE:GREGORIAN
METHOD:PUBLISH
X-WR-CALNAME:Visit Westerville
X-ORIGINAL-URL:https://www.visitwesterville.org
X-WR-CALDESC:Events for Visit Westerville
REFRESH-INTERVAL;VALUE=DURATION:PT1H
X-Robots-Tag:noindex
X-PUBLISHED-TTL:PT1H
BEGIN:VTIMEZONE
TZID:America/New_York
BEGIN:DAYLIGHT
TZOFFSETFROM:-0500
TZOFFSETTO:-0400
TZNAME:EDT
DTSTART:20240310T070000
END:DAYLIGHT
BEGIN:STANDARD
TZOFFSETFROM:-0400
TZOFFSETTO:-0500
TZNAME:EST
DTSTART:20241103T060000
END:STANDARD
BEGIN:DAYLIGHT
TZOFFSETFROM:-0500
TZOFFSETTO:-0400
TZNAME:EDT
DTSTART:20250309T070000
END:DAYLIGHT
BEGIN:STANDARD
TZOFFSETFROM:-0400
TZOFFSETTO:-0500
TZNAME:EST
DTSTART:20251102T060000
END:STANDARD
BEGIN:DAYLIGHT
TZOFFSETFROM:-0500
TZOFFSETTO:-0400
TZNAME:EDT
DTSTART:20260308T070000
END:DAYLIGHT
BEGIN:STANDARD
TZOFFSETFROM:-0400
TZOFFSETTO:-0500
TZNAME:EST
DTSTART:20261101T060000
END:STANDARD
END:VTIMEZONE
BEGIN:VEVENT
DTSTART;TZID=America/New_York:20250621T090000
DTEND;TZID=America/New_York:20250621T120000
DTSTAMP:20260419T111232
CREATED:20250408T012124Z
LAST-MODIFIED:20250519T160717Z
UID:10006912-1750496400-1750507200@www.visitwesterville.org
SUMMARY:Westerville Saturday Farmers Market
DESCRIPTION:Westerville Saturday Farmers Market brings Central Ohio grown food and farm products to the Westerville community from 9 a.m. to noon on Saturdays. For 2025\, the Market will take place rain or shine\, from May 17 through Sept. 26.  \n\n\n\n\n\nIn 2025\, due to construction of the expansion of the Westerville municipal complex at 21-29 S. State St.\, the Market’s home in the parking lots behind City Hall is not available. Therefore\, the 2025 Market will temporarily relocate to the parking lots of the COhatch/North High Brewing property at 240 S. State St. \nThe Market is a producer market with proteins\, produce\, artisan bakers\, and also has vendors offering specialized prepared foods on site\, Special features include monthly fitness classes\, professional knife sharpening\, health and community service tents and live music. \nThe Market also offers SNAP\, WIC and Produce Perks supplemental nutrition assistance programs. \n \n\n\n\n\n\n\n\n\n\n\n 
URL:https://www.visitwesterville.org/event/westerville-saturday-farmers-market/2025-06-21/
LOCATION:North High Brewing\, 250 S. State St.\, Westerville\, OH\, 43081\, United States
CATEGORIES:Markets,Seasonal
ATTACH;FMTTYPE=image/jpeg:https://www.visitwesterville.org/wp-content/uploads/2023/01/Farmers-Market.jpg
END:VEVENT
BEGIN:VEVENT
DTSTART;TZID=America/New_York:20250621T130000
DTEND;TZID=America/New_York:20250621T160000
DTSTAMP:20260419T111232
CREATED:20250601T174338Z
LAST-MODIFIED:20250601T174338Z
UID:10006979-1750510800-1750521600@www.visitwesterville.org
SUMMARY:The Fouse Family
DESCRIPTION:Katy Kaslow from the History Museum at the Westerville Public Library will give presentations on Squire Fouse and his family who lived in the Hanby House in the late 1800s and early 1900s. Squire was freed at the end of the Civil War and moved to Westerville. His son William Henry Fouse was the first black graduate of Westerville High School and Otterbein.
URL:https://www.visitwesterville.org/event/the-fouse-family/
LOCATION:Hanby House\, 160 W. Main St.\, Westerville\, OH\, 43081\, United States
CATEGORIES:History
ATTACH;FMTTYPE=image/png:https://www.visitwesterville.org/wp-content/uploads/2025/06/William-Henry-Fouse-1927-2907334563.png
END:VEVENT
BEGIN:VEVENT
DTSTART;TZID=America/New_York:20250621T180000
DTEND;TZID=America/New_York:20250621T220000
DTSTAMP:20260419T111232
CREATED:20240511T180440Z
LAST-MODIFIED:20240511T180440Z
UID:10003966-1750528800-1750543200@www.visitwesterville.org
SUMMARY:Live Music at Giammarco's
DESCRIPTION:Live entertainment offered on the Patio or in the Grotto on select nights.  Please see Entertainment Calendar for scheduled dates.  Please make note when making reservation if it’s for the entertainment.
URL:https://www.visitwesterville.org/event/live-music-at-giammarcos/2025-06-21/
LOCATION:Giammarco’s Italian Restaurant\, 6030 Chandler Ct.\, Westerville\, OH\, 43082\, United States
CATEGORIES:Live Music & Performances
ATTACH;FMTTYPE=image/png:https://www.visitwesterville.org/wp-content/uploads/2024/05/Steve-Joe-Warm-2014-1024x683-1.png
END:VEVENT
BEGIN:VEVENT
DTSTART;TZID=America/New_York:20250621T183000
DTEND;TZID=America/New_York:20250621T203000
DTSTAMP:20260419T111232
CREATED:20240511T175722Z
LAST-MODIFIED:20251102T183412Z
UID:10008159-1750530600-1750537800@www.visitwesterville.org
SUMMARY:Create & Sip Classes at Uptown Art and Clay
DESCRIPTION:Grab your friends and purchase tickets for a create and sip class at Uptown Art & Clay. Supplies provided.
URL:https://www.visitwesterville.org/event/create-sip-classes-at-uptown-art-and-clay/2025-06-21/
LOCATION:Uptown Art & Clay\, 13 1/2 E. College Ave.\, Westerville\, OH\, 43081\, United States
CATEGORIES:Crafts & Workshops
ATTACH;FMTTYPE=image/jpeg:https://www.visitwesterville.org/wp-content/uploads/2024/03/Uptown-Art-Clay.jpg
END:VEVENT
BEGIN:VEVENT
DTSTART;TZID=America/New_York:20250621T190000
DTEND;TZID=America/New_York:20250621T210000
DTSTAMP:20260419T111232
CREATED:20240206T173841Z
LAST-MODIFIED:20241213T130919Z
UID:10006643-1750532400-1750539600@www.visitwesterville.org
SUMMARY:Live Music at The Two-One
DESCRIPTION:Head out to The Two-One Restaurant and Bar inside the Renaissance Westerville Columbus-Polaris for live music Friday and Saturday nights.
URL:https://www.visitwesterville.org/event/live-music-at-the-two-one-2/2025-06-21/
LOCATION:The Two-One Restaurant\, 409 Altair Parkway\, Westerville\, OH\, 43082\, United States
CATEGORIES:Live Music & Performances
ATTACH;FMTTYPE=image/png:https://www.visitwesterville.org/wp-content/uploads/2022/11/The-Two-One-Activities-e1668111941620.png
END:VEVENT
END:VCALENDAR