BEGIN:VCALENDAR
VERSION:2.0
PRODID:-//Visit Westerville - ECPv6.15.20//NONSGML v1.0//EN
CALSCALE:GREGORIAN
METHOD:PUBLISH
X-WR-CALNAME:Visit Westerville
X-ORIGINAL-URL:https://www.visitwesterville.org
X-WR-CALDESC:Events for Visit Westerville
REFRESH-INTERVAL;VALUE=DURATION:PT1H
X-Robots-Tag:noindex
X-PUBLISHED-TTL:PT1H
BEGIN:VTIMEZONE
TZID:America/New_York
BEGIN:DAYLIGHT
TZOFFSETFROM:-0500
TZOFFSETTO:-0400
TZNAME:EDT
DTSTART:20240310T070000
END:DAYLIGHT
BEGIN:STANDARD
TZOFFSETFROM:-0400
TZOFFSETTO:-0500
TZNAME:EST
DTSTART:20241103T060000
END:STANDARD
BEGIN:DAYLIGHT
TZOFFSETFROM:-0500
TZOFFSETTO:-0400
TZNAME:EDT
DTSTART:20250309T070000
END:DAYLIGHT
BEGIN:STANDARD
TZOFFSETFROM:-0400
TZOFFSETTO:-0500
TZNAME:EST
DTSTART:20251102T060000
END:STANDARD
BEGIN:DAYLIGHT
TZOFFSETFROM:-0500
TZOFFSETTO:-0400
TZNAME:EDT
DTSTART:20260308T070000
END:DAYLIGHT
BEGIN:STANDARD
TZOFFSETFROM:-0400
TZOFFSETTO:-0500
TZNAME:EST
DTSTART:20261101T060000
END:STANDARD
END:VTIMEZONE
BEGIN:VEVENT
DTSTART;TZID=America/New_York:20250802T090000
DTEND;TZID=America/New_York:20250802T120000
DTSTAMP:20260419T124832
CREATED:20250408T012124Z
LAST-MODIFIED:20250519T160717Z
UID:10006918-1754125200-1754136000@www.visitwesterville.org
SUMMARY:Westerville Saturday Farmers Market
DESCRIPTION:Westerville Saturday Farmers Market brings Central Ohio grown food and farm products to the Westerville community from 9 a.m. to noon on Saturdays. For 2025\, the Market will take place rain or shine\, from May 17 through Sept. 26.  \n\n\n\n\n\nIn 2025\, due to construction of the expansion of the Westerville municipal complex at 21-29 S. State St.\, the Market’s home in the parking lots behind City Hall is not available. Therefore\, the 2025 Market will temporarily relocate to the parking lots of the COhatch/North High Brewing property at 240 S. State St. \nThe Market is a producer market with proteins\, produce\, artisan bakers\, and also has vendors offering specialized prepared foods on site\, Special features include monthly fitness classes\, professional knife sharpening\, health and community service tents and live music. \nThe Market also offers SNAP\, WIC and Produce Perks supplemental nutrition assistance programs. \n \n\n\n\n\n\n\n\n\n\n\n 
URL:https://www.visitwesterville.org/event/westerville-saturday-farmers-market/2025-08-02/
LOCATION:North High Brewing\, 250 S. State St.\, Westerville\, OH\, 43081\, United States
CATEGORIES:Markets,Seasonal
ATTACH;FMTTYPE=image/jpeg:https://www.visitwesterville.org/wp-content/uploads/2023/01/Farmers-Market.jpg
END:VEVENT
BEGIN:VEVENT
DTSTART;TZID=America/New_York:20250802T130000
DTEND;TZID=America/New_York:20250802T160000
DTSTAMP:20260419T124832
CREATED:20250601T175638Z
LAST-MODIFIED:20250601T175638Z
UID:10006984-1754139600-1754150400@www.visitwesterville.org
SUMMARY:Bishop William Hanby’s Role in the Whiskey Wars
DESCRIPTION:2025 marks 150 years since the beginning of the Westerville Whiskey Wars which put the community on the map of anti-alcohol “holy places”. Join us as we explore Bishop William Hanby’s action during this turbulent time for our town.
URL:https://www.visitwesterville.org/event/bishop-william-hanbys-role-in-the-whiskey-wars/
LOCATION:Hanby House\, 160 W. Main St.\, Westerville\, OH\, 43081\, United States
CATEGORIES:History
ATTACH;FMTTYPE=image/jpeg:https://www.visitwesterville.org/wp-content/uploads/2025/06/hanby-william600-600x571-4091414391.jpg
END:VEVENT
BEGIN:VEVENT
DTSTART;TZID=America/New_York:20250802T130000
DTEND;TZID=America/New_York:20250802T180000
DTSTAMP:20260419T124832
CREATED:20250731T115936Z
LAST-MODIFIED:20250731T115936Z
UID:10007016-1754139600-1754157600@www.visitwesterville.org
SUMMARY:Summer Flower Bar Pop-Up at Blend Candle Co.
DESCRIPTION:Stop and Smell the Flowers \nSummer Flower Bar Pop-Up at Blend Candle Co\nAugust 2 | 1–6 PM\nAugust 3 | 12–5 PM \nGrab your flower-loving friends and swing by for a bloomin’ good time! We’re teaming up with Sassafras Flowers  to bring you the ultimate bouquet + candle bar experience. \n✨ Build your own bouquet- gorgeous summer blooms along with some tropical faves\n✨ Create a custom signature scent while you’re in\n✨ Sip complimentary Prosecco & wine\n✨ Sniff\, mingle\, and soak up the summer vibes \nWhether you’re a floral fanatic or just here for the fizz\, it’s the perfect excuse to play with petals and create a custom perfume and more! \nNo RSVP needed—just pop in\, pour up\, and let the creativity bloom!
URL:https://www.visitwesterville.org/event/summer-flower-bar-pop-up-at-blend-candle-co/2025-08-02/
LOCATION:Blend Candle Co.\, 16 E. Main St.\, Westerville\, oh\, 43081\, United States
ATTACH;FMTTYPE=image/jpeg:https://www.visitwesterville.org/wp-content/uploads/2025/07/488618695_17931144744011100_5823905524892300967_n.jpg
END:VEVENT
BEGIN:VEVENT
DTSTART;TZID=America/New_York:20250802T180000
DTEND;TZID=America/New_York:20250802T220000
DTSTAMP:20260419T124832
CREATED:20240511T180440Z
LAST-MODIFIED:20240511T180440Z
UID:10004008-1754157600-1754172000@www.visitwesterville.org
SUMMARY:Live Music at Giammarco's
DESCRIPTION:Live entertainment offered on the Patio or in the Grotto on select nights.  Please see Entertainment Calendar for scheduled dates.  Please make note when making reservation if it’s for the entertainment.
URL:https://www.visitwesterville.org/event/live-music-at-giammarcos/2025-08-02/
LOCATION:Giammarco’s Italian Restaurant\, 6030 Chandler Ct.\, Westerville\, OH\, 43082\, United States
CATEGORIES:Live Music & Performances
ATTACH;FMTTYPE=image/png:https://www.visitwesterville.org/wp-content/uploads/2024/05/Steve-Joe-Warm-2014-1024x683-1.png
END:VEVENT
BEGIN:VEVENT
DTSTART;TZID=America/New_York:20250802T183000
DTEND;TZID=America/New_York:20250802T203000
DTSTAMP:20260419T124832
CREATED:20240511T175722Z
LAST-MODIFIED:20251102T183412Z
UID:10008177-1754159400-1754166600@www.visitwesterville.org
SUMMARY:Create & Sip Classes at Uptown Art and Clay
DESCRIPTION:Grab your friends and purchase tickets for a create and sip class at Uptown Art & Clay. Supplies provided.
URL:https://www.visitwesterville.org/event/create-sip-classes-at-uptown-art-and-clay/2025-08-02/
LOCATION:Uptown Art & Clay\, 13 1/2 E. College Ave.\, Westerville\, OH\, 43081\, United States
CATEGORIES:Crafts & Workshops
ATTACH;FMTTYPE=image/jpeg:https://www.visitwesterville.org/wp-content/uploads/2024/03/Uptown-Art-Clay.jpg
END:VEVENT
BEGIN:VEVENT
DTSTART;TZID=America/New_York:20250802T190000
DTEND;TZID=America/New_York:20250802T210000
DTSTAMP:20260419T124832
CREATED:20240206T173841Z
LAST-MODIFIED:20241213T130919Z
UID:10006655-1754161200-1754168400@www.visitwesterville.org
SUMMARY:Live Music at The Two-One
DESCRIPTION:Head out to The Two-One Restaurant and Bar inside the Renaissance Westerville Columbus-Polaris for live music Friday and Saturday nights.
URL:https://www.visitwesterville.org/event/live-music-at-the-two-one-2/2025-08-02/
LOCATION:The Two-One Restaurant\, 409 Altair Parkway\, Westerville\, OH\, 43082\, United States
CATEGORIES:Live Music & Performances
ATTACH;FMTTYPE=image/png:https://www.visitwesterville.org/wp-content/uploads/2022/11/The-Two-One-Activities-e1668111941620.png
END:VEVENT
END:VCALENDAR