BEGIN:VCALENDAR
VERSION:2.0
PRODID:-//Visit Westerville - ECPv6.15.20//NONSGML v1.0//EN
CALSCALE:GREGORIAN
METHOD:PUBLISH
X-ORIGINAL-URL:https://www.visitwesterville.org
X-WR-CALDESC:Events for Visit Westerville
REFRESH-INTERVAL;VALUE=DURATION:PT1H
X-Robots-Tag:noindex
X-PUBLISHED-TTL:PT1H
BEGIN:VTIMEZONE
TZID:America/New_York
BEGIN:DAYLIGHT
TZOFFSETFROM:-0500
TZOFFSETTO:-0400
TZNAME:EDT
DTSTART:20240310T070000
END:DAYLIGHT
BEGIN:STANDARD
TZOFFSETFROM:-0400
TZOFFSETTO:-0500
TZNAME:EST
DTSTART:20241103T060000
END:STANDARD
BEGIN:DAYLIGHT
TZOFFSETFROM:-0500
TZOFFSETTO:-0400
TZNAME:EDT
DTSTART:20250309T070000
END:DAYLIGHT
BEGIN:STANDARD
TZOFFSETFROM:-0400
TZOFFSETTO:-0500
TZNAME:EST
DTSTART:20251102T060000
END:STANDARD
BEGIN:DAYLIGHT
TZOFFSETFROM:-0500
TZOFFSETTO:-0400
TZNAME:EDT
DTSTART:20260308T070000
END:DAYLIGHT
BEGIN:STANDARD
TZOFFSETFROM:-0400
TZOFFSETTO:-0500
TZNAME:EST
DTSTART:20261101T060000
END:STANDARD
END:VTIMEZONE
BEGIN:VEVENT
DTSTART;TZID=America/New_York:20250820T113000
DTEND;TZID=America/New_York:20250820T130000
DTSTAMP:20260419T161621
CREATED:20250725T183225Z
LAST-MODIFIED:20250725T184031Z
UID:10007010-1755689400-1755694800@www.visitwesterville.org
SUMMARY:JC Lunchbox Concert Series
DESCRIPTION:Free Live Music including rock\, country\, oldies\, blues\, bluegrass\, and more! Every Wednesday May- September beginning May 14.  11:30am-1:00pm in Uptown Westerville on the Java Central Brick Walk.  In the case of rain\, concerts will be moved inside to the JC Stage.
URL:https://www.visitwesterville.org/event/jc-lunchbox-concert-series/2025-08-20/
LOCATION:Java Central Coffee Roasters\, 20 S. State St.\, Ste. B\, Westerville\, OH\, 43081\, United States
ATTACH;FMTTYPE=image/jpeg:https://www.visitwesterville.org/wp-content/uploads/2025/07/MG_2373-scaled_919FDAB6-C97D-4E7E-909031DAE628FF2C_f0356715-51e5-4147-893912db6342e261.jpg
END:VEVENT
BEGIN:VEVENT
DTSTART;TZID=America/New_York:20250820T180000
DTEND;TZID=America/New_York:20250820T200000
DTSTAMP:20260419T161621
CREATED:20250801T161417Z
LAST-MODIFIED:20250801T161417Z
UID:10007020-1755712800-1755720000@www.visitwesterville.org
SUMMARY:Sip & Chill 5-Course Pairing Event
DESCRIPTION:The dog days of summer are here but we’ve got the perfect wines to beat the heat. Enjoy a lineup of crisp whites\, rosé\, and chillable reds\, each accompanied by a Chef-crafted pairing plate. Hosted by our House Sommelier.
URL:https://www.visitwesterville.org/event/sip-chill-5-course-pairing-event/
LOCATION:Napa Kitchen & Bar\, 925 N. State St.\, Westerville\, OH\, 43082
CATEGORIES:Culinary
ATTACH;FMTTYPE=image/png:https://www.visitwesterville.org/wp-content/uploads/2025/08/napa.png
END:VEVENT
BEGIN:VEVENT
DTSTART;TZID=America/New_York:20250820T180000
DTEND;TZID=America/New_York:20250820T220000
DTSTAMP:20260419T161621
CREATED:20240511T180440Z
LAST-MODIFIED:20240511T180440Z
UID:10004026-1755712800-1755727200@www.visitwesterville.org
SUMMARY:Live Music at Giammarco's
DESCRIPTION:Live entertainment offered on the Patio or in the Grotto on select nights.  Please see Entertainment Calendar for scheduled dates.  Please make note when making reservation if it’s for the entertainment.
URL:https://www.visitwesterville.org/event/live-music-at-giammarcos/2025-08-20/
LOCATION:Giammarco’s Italian Restaurant\, 6030 Chandler Ct.\, Westerville\, OH\, 43082\, United States
CATEGORIES:Live Music & Performances
ATTACH;FMTTYPE=image/png:https://www.visitwesterville.org/wp-content/uploads/2024/05/Steve-Joe-Warm-2014-1024x683-1.png
END:VEVENT
END:VCALENDAR