BEGIN:VCALENDAR
VERSION:2.0
PRODID:-//Visit Westerville - ECPv6.15.20//NONSGML v1.0//EN
CALSCALE:GREGORIAN
METHOD:PUBLISH
X-WR-CALNAME:Visit Westerville
X-ORIGINAL-URL:https://www.visitwesterville.org
X-WR-CALDESC:Events for Visit Westerville
REFRESH-INTERVAL;VALUE=DURATION:PT1H
X-Robots-Tag:noindex
X-PUBLISHED-TTL:PT1H
BEGIN:VTIMEZONE
TZID:America/New_York
BEGIN:DAYLIGHT
TZOFFSETFROM:-0500
TZOFFSETTO:-0400
TZNAME:EDT
DTSTART:20240310T070000
END:DAYLIGHT
BEGIN:STANDARD
TZOFFSETFROM:-0400
TZOFFSETTO:-0500
TZNAME:EST
DTSTART:20241103T060000
END:STANDARD
BEGIN:DAYLIGHT
TZOFFSETFROM:-0500
TZOFFSETTO:-0400
TZNAME:EDT
DTSTART:20250309T070000
END:DAYLIGHT
BEGIN:STANDARD
TZOFFSETFROM:-0400
TZOFFSETTO:-0500
TZNAME:EST
DTSTART:20251102T060000
END:STANDARD
BEGIN:DAYLIGHT
TZOFFSETFROM:-0500
TZOFFSETTO:-0400
TZNAME:EDT
DTSTART:20260308T070000
END:DAYLIGHT
BEGIN:STANDARD
TZOFFSETFROM:-0400
TZOFFSETTO:-0500
TZNAME:EST
DTSTART:20261101T060000
END:STANDARD
END:VTIMEZONE
BEGIN:VEVENT
DTSTART;TZID=America/New_York:20250830T090000
DTEND;TZID=America/New_York:20251005T170000
DTSTAMP:20260419T180026
CREATED:20250725T144256Z
LAST-MODIFIED:20250725T144537Z
UID:10007005-1756544400-1759683600@www.visitwesterville.org
SUMMARY:2025 Ohio Cup Vintage Base Ball Festival
DESCRIPTION:Don’t miss the 2025 Ohio Cup Vintage Base Ball Festival taking place at the Westerville Sports Complex on August 30 & 31 from 9AM-5PM. Cheer on more than two dozen teams from across the nation competing by 19th-century rules for vintage base ball’s Ohio Cup. Enjoy special activities for kids\, including old-time games and sports\, and try your hand at 1860s base ball with our own Ohio Village Muffins! \nThis event is free and open to the public.
URL:https://www.visitwesterville.org/event/2025-ohio-cup-vintage-base-ball-festival/2025-08-30/
LOCATION:Westerville Sports Complex\, 325 N. Cleveland Ave.\, Westerville\, OH\, 43081\, United States
ATTACH;FMTTYPE=image/jpeg:https://www.visitwesterville.org/wp-content/uploads/2025/07/Ohio-Village-Muffins-photo-1.jpg
END:VEVENT
BEGIN:VEVENT
DTSTART;TZID=America/New_York:20250926T100000
DTEND;TZID=America/New_York:20250926T150000
DTSTAMP:20260419T180026
CREATED:20250408T011359Z
LAST-MODIFIED:20250408T011519Z
UID:10003497-1758880800-1758898800@www.visitwesterville.org
SUMMARY:Otterbein Homecoming & Family Weekend
DESCRIPTION:Otterbein’s Homecoming & Family weekend will once again return for two days. The weekend is open to the public\, not just alumni! All events are free to attend (including the sporting events)\, but food and drinks can be purchased separately throughout the weekend. \nRead about all the event offers\, find a hotel\, and find things to do in Westerville on our blog.
URL:https://www.visitwesterville.org/event/otterbein-homecoming-family-weekend-2/
LOCATION:Otterbein University Campus\, Westerville\, OH\, 43081\, United States
CATEGORIES:Festivals,Seasonal
ATTACH;FMTTYPE=image/jpeg:https://www.visitwesterville.org/wp-content/uploads/2023/02/Otterbein-1.jpg
END:VEVENT
BEGIN:VEVENT
DTSTART;TZID=America/New_York:20250926T180000
DTEND;TZID=America/New_York:20250926T210000
DTSTAMP:20260419T180026
CREATED:20250919T205123Z
LAST-MODIFIED:20250919T205123Z
UID:10006991-1758909600-1758920400@www.visitwesterville.org
SUMMARY:Fourth Friday Festival
DESCRIPTION:The main street in Westerville shuts down to traffic every 4th Friday evening from May to October in Uptown. Guests will enjoy entertainment\, food trucks\, pop-up vendors\, restaurants and retail shopping.
URL:https://www.visitwesterville.org/event/fourth-friday-festival-2/
LOCATION:Uptown Westerville\, Main St.\, Westerville\, OH\, 43081\, United States
CATEGORIES:Markets,Seasonal
ATTACH;FMTTYPE=image/jpeg:https://www.visitwesterville.org/wp-content/uploads/2023/05/4th-Friday.jpg
END:VEVENT
BEGIN:VEVENT
DTSTART;TZID=America/New_York:20250926T180000
DTEND;TZID=America/New_York:20250926T220000
DTSTAMP:20260419T180026
CREATED:20240511T180440Z
LAST-MODIFIED:20240511T180440Z
UID:10004063-1758909600-1758924000@www.visitwesterville.org
SUMMARY:Live Music at Giammarco's
DESCRIPTION:Live entertainment offered on the Patio or in the Grotto on select nights.  Please see Entertainment Calendar for scheduled dates.  Please make note when making reservation if it’s for the entertainment.
URL:https://www.visitwesterville.org/event/live-music-at-giammarcos/2025-09-26/
LOCATION:Giammarco’s Italian Restaurant\, 6030 Chandler Ct.\, Westerville\, OH\, 43082\, United States
CATEGORIES:Live Music & Performances
ATTACH;FMTTYPE=image/png:https://www.visitwesterville.org/wp-content/uploads/2024/05/Steve-Joe-Warm-2014-1024x683-1.png
END:VEVENT
BEGIN:VEVENT
DTSTART;TZID=America/New_York:20250926T183000
DTEND;TZID=America/New_York:20250926T203000
DTSTAMP:20260419T180026
CREATED:20240511T175722Z
LAST-MODIFIED:20251102T183412Z
UID:10008200-1758911400-1758918600@www.visitwesterville.org
SUMMARY:Create & Sip Classes at Uptown Art and Clay
DESCRIPTION:Grab your friends and purchase tickets for a create and sip class at Uptown Art & Clay. Supplies provided.
URL:https://www.visitwesterville.org/event/create-sip-classes-at-uptown-art-and-clay/2025-09-26/
LOCATION:Uptown Art & Clay\, 13 1/2 E. College Ave.\, Westerville\, OH\, 43081\, United States
CATEGORIES:Crafts & Workshops
ATTACH;FMTTYPE=image/jpeg:https://www.visitwesterville.org/wp-content/uploads/2024/03/Uptown-Art-Clay.jpg
END:VEVENT
BEGIN:VEVENT
DTSTART;TZID=America/New_York:20250926T190000
DTEND;TZID=America/New_York:20250926T210000
DTSTAMP:20260419T180026
CREATED:20240206T173841Z
LAST-MODIFIED:20241213T130919Z
UID:10006670-1758913200-1758920400@www.visitwesterville.org
SUMMARY:Live Music at The Two-One
DESCRIPTION:Head out to The Two-One Restaurant and Bar inside the Renaissance Westerville Columbus-Polaris for live music Friday and Saturday nights.
URL:https://www.visitwesterville.org/event/live-music-at-the-two-one-2/2025-09-26/
LOCATION:The Two-One Restaurant\, 409 Altair Parkway\, Westerville\, OH\, 43082\, United States
CATEGORIES:Live Music & Performances
ATTACH;FMTTYPE=image/png:https://www.visitwesterville.org/wp-content/uploads/2022/11/The-Two-One-Activities-e1668111941620.png
END:VEVENT
BEGIN:VEVENT
DTSTART;TZID=America/New_York:20250926T190000
DTEND;TZID=America/New_York:20250926T220000
DTSTAMP:20260419T180026
CREATED:20250327T151922Z
LAST-MODIFIED:20251008T004322Z
UID:10007439-1758913200-1758924000@www.visitwesterville.org
SUMMARY:Acoustic Open Mic at Java Central
DESCRIPTION:Acoustic One Mic! Every Friday at Java Central from 7pm-10pm. Very eclectic and very good! Welcoming everyone with musical talent and/or aspirations to sing and play – considered one of the best around.
URL:https://www.visitwesterville.org/event/acoustic-open-mic-at-java-central-2/2025-09-26/
LOCATION:Java Central Coffee Roasters\, 20 S. State St.\, Ste. B\, Westerville\, OH\, 43081\, United States
CATEGORIES:Live Music & Performances
ATTACH;FMTTYPE=image/jpeg:https://www.visitwesterville.org/wp-content/uploads/2023/06/Java-Central.jpg
END:VEVENT
BEGIN:VEVENT
DTSTART;TZID=America/New_York:20250926T190000
DTEND;TZID=America/New_York:20250926T230000
DTSTAMP:20260419T180026
CREATED:20240223T194119Z
LAST-MODIFIED:20250408T014801Z
UID:10006761-1758913200-1758927600@www.visitwesterville.org
SUMMARY:Uptown Ghost Story Tours
DESCRIPTION:Presenting stories collected from the Uptown community combined into a theatrical\, largely historical and highly entertaining walking tour.
URL:https://www.visitwesterville.org/event/uptown-ghost-story-tours/2025-09-26/
LOCATION:Uptown Westerville\, Main St.\, Westerville\, OH\, 43081\, United States
CATEGORIES:Tours
ATTACH;FMTTYPE=image/png:https://www.visitwesterville.org/wp-content/uploads/2024/02/Ghost-Story-Tours.png
END:VEVENT
END:VCALENDAR