BEGIN:VCALENDAR
VERSION:2.0
PRODID:-//Visit Westerville - ECPv6.15.20//NONSGML v1.0//EN
CALSCALE:GREGORIAN
METHOD:PUBLISH
X-WR-CALNAME:Visit Westerville
X-ORIGINAL-URL:https://www.visitwesterville.org
X-WR-CALDESC:Events for Visit Westerville
REFRESH-INTERVAL;VALUE=DURATION:PT1H
X-Robots-Tag:noindex
X-PUBLISHED-TTL:PT1H
BEGIN:VTIMEZONE
TZID:America/New_York
BEGIN:DAYLIGHT
TZOFFSETFROM:-0500
TZOFFSETTO:-0400
TZNAME:EDT
DTSTART:20240310T070000
END:DAYLIGHT
BEGIN:STANDARD
TZOFFSETFROM:-0400
TZOFFSETTO:-0500
TZNAME:EST
DTSTART:20241103T060000
END:STANDARD
BEGIN:DAYLIGHT
TZOFFSETFROM:-0500
TZOFFSETTO:-0400
TZNAME:EDT
DTSTART:20250309T070000
END:DAYLIGHT
BEGIN:STANDARD
TZOFFSETFROM:-0400
TZOFFSETTO:-0500
TZNAME:EST
DTSTART:20251102T060000
END:STANDARD
BEGIN:DAYLIGHT
TZOFFSETFROM:-0500
TZOFFSETTO:-0400
TZNAME:EDT
DTSTART:20260308T070000
END:DAYLIGHT
BEGIN:STANDARD
TZOFFSETFROM:-0400
TZOFFSETTO:-0500
TZNAME:EST
DTSTART:20261101T060000
END:STANDARD
END:VTIMEZONE
BEGIN:VEVENT
DTSTART;TZID=America/New_York:20250830T090000
DTEND;TZID=America/New_York:20251005T170000
DTSTAMP:20260419T175821
CREATED:20250725T144256Z
LAST-MODIFIED:20250725T144537Z
UID:10007005-1756544400-1759683600@www.visitwesterville.org
SUMMARY:2025 Ohio Cup Vintage Base Ball Festival
DESCRIPTION:Don’t miss the 2025 Ohio Cup Vintage Base Ball Festival taking place at the Westerville Sports Complex on August 30 & 31 from 9AM-5PM. Cheer on more than two dozen teams from across the nation competing by 19th-century rules for vintage base ball’s Ohio Cup. Enjoy special activities for kids\, including old-time games and sports\, and try your hand at 1860s base ball with our own Ohio Village Muffins! \nThis event is free and open to the public.
URL:https://www.visitwesterville.org/event/2025-ohio-cup-vintage-base-ball-festival/2025-08-30/
LOCATION:Westerville Sports Complex\, 325 N. Cleveland Ave.\, Westerville\, OH\, 43081\, United States
ATTACH;FMTTYPE=image/jpeg:https://www.visitwesterville.org/wp-content/uploads/2025/07/Ohio-Village-Muffins-photo-1.jpg
END:VEVENT
BEGIN:VEVENT
DTSTART;VALUE=DATE:20251004
DTEND;VALUE=DATE:20251005
DTSTAMP:20260419T175821
CREATED:20240511T174105Z
LAST-MODIFIED:20250408T172918Z
UID:10006778-1759536000-1759622399@www.visitwesterville.org
SUMMARY:Wizards & Wands Festival
DESCRIPTION:Celebrate all month long at the Wizards & Wands Festival at the Westerville Library. Enjoy a variety of fantasy fandoms throughout the month\, from Hocus Pocus to Dungeons & Dragons to Haunted Mansion. Enjoy performances\, complete missions\, and explore magical worlds. \nLibraries are places that inspire magic\, filled with stories that can take you to extraordinary worlds. Since 2018\, the Wizards & Wands Festival has embraced that sense of wonder by bringing books to life and creating an unforgettable experience for the Westerville area community. People of all ages and passions come together champion the power of stories. This signature event attracts thousands of visitors of all ages from across Central Ohio\, those who already love the library and those who have never been inside the library before. \nOctober 24\, 2025 (4-9pm) \n\n\n\n\n\n\n\nExperience the magic of your library with spellbinding performers during Midnight Madness (the last 4th Friday Festival of the season!) in Uptown Westerville. \n\nFor all ages.\nCostumes encouraged.\nAdmission is free.\n\n\n\nVisitors will enjoy fantasy-themed decor throughout the building and complete fantasy-themed missions for a chance at prize drawings.  \n 
URL:https://www.visitwesterville.org/event/wizards-wands-festival/2025-10-04/
LOCATION:Westerville Public Library\, 126 S. State St.\, Westerville\, OH\, 43081\, United States
CATEGORIES:Festivals,Seasonal
ATTACH;FMTTYPE=image/jpeg:https://www.visitwesterville.org/wp-content/uploads/2023/01/Wizards-and-Wands.jpg
END:VEVENT
BEGIN:VEVENT
DTSTART;TZID=America/New_York:20251004T180000
DTEND;TZID=America/New_York:20251004T220000
DTSTAMP:20260419T175821
CREATED:20240511T180440Z
LAST-MODIFIED:20240511T180440Z
UID:10004071-1759600800-1759615200@www.visitwesterville.org
SUMMARY:Live Music at Giammarco's
DESCRIPTION:Live entertainment offered on the Patio or in the Grotto on select nights.  Please see Entertainment Calendar for scheduled dates.  Please make note when making reservation if it’s for the entertainment.
URL:https://www.visitwesterville.org/event/live-music-at-giammarcos/2025-10-04/
LOCATION:Giammarco’s Italian Restaurant\, 6030 Chandler Ct.\, Westerville\, OH\, 43082\, United States
CATEGORIES:Live Music & Performances
ATTACH;FMTTYPE=image/png:https://www.visitwesterville.org/wp-content/uploads/2024/05/Steve-Joe-Warm-2014-1024x683-1.png
END:VEVENT
BEGIN:VEVENT
DTSTART;TZID=America/New_York:20251004T183000
DTEND;TZID=America/New_York:20251004T203000
DTSTAMP:20260419T175821
CREATED:20240511T175722Z
LAST-MODIFIED:20251102T183412Z
UID:10008204-1759602600-1759609800@www.visitwesterville.org
SUMMARY:Create & Sip Classes at Uptown Art and Clay
DESCRIPTION:Grab your friends and purchase tickets for a create and sip class at Uptown Art & Clay. Supplies provided.
URL:https://www.visitwesterville.org/event/create-sip-classes-at-uptown-art-and-clay/2025-10-04/
LOCATION:Uptown Art & Clay\, 13 1/2 E. College Ave.\, Westerville\, OH\, 43081\, United States
CATEGORIES:Crafts & Workshops
ATTACH;FMTTYPE=image/jpeg:https://www.visitwesterville.org/wp-content/uploads/2024/03/Uptown-Art-Clay.jpg
END:VEVENT
BEGIN:VEVENT
DTSTART;TZID=America/New_York:20251004T190000
DTEND;TZID=America/New_York:20251004T210000
DTSTAMP:20260419T175821
CREATED:20240206T173841Z
LAST-MODIFIED:20241213T130919Z
UID:10006673-1759604400-1759611600@www.visitwesterville.org
SUMMARY:Live Music at The Two-One
DESCRIPTION:Head out to The Two-One Restaurant and Bar inside the Renaissance Westerville Columbus-Polaris for live music Friday and Saturday nights.
URL:https://www.visitwesterville.org/event/live-music-at-the-two-one-2/2025-10-04/
LOCATION:The Two-One Restaurant\, 409 Altair Parkway\, Westerville\, OH\, 43082\, United States
CATEGORIES:Live Music & Performances
ATTACH;FMTTYPE=image/png:https://www.visitwesterville.org/wp-content/uploads/2022/11/The-Two-One-Activities-e1668111941620.png
END:VEVENT
BEGIN:VEVENT
DTSTART;TZID=America/New_York:20251004T190000
DTEND;TZID=America/New_York:20251004T230000
DTSTAMP:20260419T175821
CREATED:20240223T194119Z
LAST-MODIFIED:20250408T014801Z
UID:10006764-1759604400-1759618800@www.visitwesterville.org
SUMMARY:Uptown Ghost Story Tours
DESCRIPTION:Presenting stories collected from the Uptown community combined into a theatrical\, largely historical and highly entertaining walking tour.
URL:https://www.visitwesterville.org/event/uptown-ghost-story-tours/2025-10-04/
LOCATION:Uptown Westerville\, Main St.\, Westerville\, OH\, 43081\, United States
CATEGORIES:Tours
ATTACH;FMTTYPE=image/png:https://www.visitwesterville.org/wp-content/uploads/2024/02/Ghost-Story-Tours.png
END:VEVENT
END:VCALENDAR