BEGIN:VCALENDAR
VERSION:2.0
PRODID:-//Visit Westerville - ECPv6.15.20//NONSGML v1.0//EN
CALSCALE:GREGORIAN
METHOD:PUBLISH
X-ORIGINAL-URL:https://www.visitwesterville.org
X-WR-CALDESC:Events for Visit Westerville
REFRESH-INTERVAL;VALUE=DURATION:PT1H
X-Robots-Tag:noindex
X-PUBLISHED-TTL:PT1H
BEGIN:VTIMEZONE
TZID:America/New_York
BEGIN:DAYLIGHT
TZOFFSETFROM:-0500
TZOFFSETTO:-0400
TZNAME:EDT
DTSTART:20240310T070000
END:DAYLIGHT
BEGIN:STANDARD
TZOFFSETFROM:-0400
TZOFFSETTO:-0500
TZNAME:EST
DTSTART:20241103T060000
END:STANDARD
BEGIN:DAYLIGHT
TZOFFSETFROM:-0500
TZOFFSETTO:-0400
TZNAME:EDT
DTSTART:20250309T070000
END:DAYLIGHT
BEGIN:STANDARD
TZOFFSETFROM:-0400
TZOFFSETTO:-0500
TZNAME:EST
DTSTART:20251102T060000
END:STANDARD
BEGIN:DAYLIGHT
TZOFFSETFROM:-0500
TZOFFSETTO:-0400
TZNAME:EDT
DTSTART:20260308T070000
END:DAYLIGHT
BEGIN:STANDARD
TZOFFSETFROM:-0400
TZOFFSETTO:-0500
TZNAME:EST
DTSTART:20261101T060000
END:STANDARD
END:VTIMEZONE
BEGIN:VEVENT
DTSTART;VALUE=DATE:20251007
DTEND;VALUE=DATE:20251008
DTSTAMP:20260419T214408
CREATED:20240511T174105Z
LAST-MODIFIED:20250408T172918Z
UID:10006781-1759795200-1759881599@www.visitwesterville.org
SUMMARY:Wizards & Wands Festival
DESCRIPTION:Celebrate all month long at the Wizards & Wands Festival at the Westerville Library. Enjoy a variety of fantasy fandoms throughout the month\, from Hocus Pocus to Dungeons & Dragons to Haunted Mansion. Enjoy performances\, complete missions\, and explore magical worlds. \nLibraries are places that inspire magic\, filled with stories that can take you to extraordinary worlds. Since 2018\, the Wizards & Wands Festival has embraced that sense of wonder by bringing books to life and creating an unforgettable experience for the Westerville area community. People of all ages and passions come together champion the power of stories. This signature event attracts thousands of visitors of all ages from across Central Ohio\, those who already love the library and those who have never been inside the library before. \nOctober 24\, 2025 (4-9pm) \n\n\n\n\n\n\n\nExperience the magic of your library with spellbinding performers during Midnight Madness (the last 4th Friday Festival of the season!) in Uptown Westerville. \n\nFor all ages.\nCostumes encouraged.\nAdmission is free.\n\n\n\nVisitors will enjoy fantasy-themed decor throughout the building and complete fantasy-themed missions for a chance at prize drawings.  \n 
URL:https://www.visitwesterville.org/event/wizards-wands-festival/2025-10-07/
LOCATION:Westerville Public Library\, 126 S. State St.\, Westerville\, OH\, 43081\, United States
CATEGORIES:Festivals,Seasonal
ATTACH;FMTTYPE=image/jpeg:https://www.visitwesterville.org/wp-content/uploads/2023/01/Wizards-and-Wands.jpg
END:VEVENT
BEGIN:VEVENT
DTSTART;TZID=America/New_York:20251007T180000
DTEND;TZID=America/New_York:20251007T220000
DTSTAMP:20260419T214408
CREATED:20240511T180440Z
LAST-MODIFIED:20240511T180440Z
UID:10004074-1759860000-1759874400@www.visitwesterville.org
SUMMARY:Live Music at Giammarco's
DESCRIPTION:Live entertainment offered on the Patio or in the Grotto on select nights.  Please see Entertainment Calendar for scheduled dates.  Please make note when making reservation if it’s for the entertainment.
URL:https://www.visitwesterville.org/event/live-music-at-giammarcos/2025-10-07/
LOCATION:Giammarco’s Italian Restaurant\, 6030 Chandler Ct.\, Westerville\, OH\, 43082\, United States
CATEGORIES:Live Music & Performances
ATTACH;FMTTYPE=image/png:https://www.visitwesterville.org/wp-content/uploads/2024/05/Steve-Joe-Warm-2014-1024x683-1.png
END:VEVENT
END:VCALENDAR