BEGIN:VCALENDAR
VERSION:2.0
PRODID:-//Visit Westerville - ECPv6.15.20//NONSGML v1.0//EN
CALSCALE:GREGORIAN
METHOD:PUBLISH
X-ORIGINAL-URL:https://www.visitwesterville.org
X-WR-CALDESC:Events for Visit Westerville
REFRESH-INTERVAL;VALUE=DURATION:PT1H
X-Robots-Tag:noindex
X-PUBLISHED-TTL:PT1H
BEGIN:VTIMEZONE
TZID:America/New_York
BEGIN:DAYLIGHT
TZOFFSETFROM:-0500
TZOFFSETTO:-0400
TZNAME:EDT
DTSTART:20230312T070000
END:DAYLIGHT
BEGIN:STANDARD
TZOFFSETFROM:-0400
TZOFFSETTO:-0500
TZNAME:EST
DTSTART:20231105T060000
END:STANDARD
BEGIN:DAYLIGHT
TZOFFSETFROM:-0500
TZOFFSETTO:-0400
TZNAME:EDT
DTSTART:20240310T070000
END:DAYLIGHT
BEGIN:STANDARD
TZOFFSETFROM:-0400
TZOFFSETTO:-0500
TZNAME:EST
DTSTART:20241103T060000
END:STANDARD
BEGIN:DAYLIGHT
TZOFFSETFROM:-0500
TZOFFSETTO:-0400
TZNAME:EDT
DTSTART:20250309T070000
END:DAYLIGHT
BEGIN:STANDARD
TZOFFSETFROM:-0400
TZOFFSETTO:-0500
TZNAME:EST
DTSTART:20251102T060000
END:STANDARD
END:VTIMEZONE
BEGIN:VEVENT
DTSTART;TZID=America/New_York:20240814T183000
DTEND;TZID=America/New_York:20240814T203000
DTSTAMP:20260421T165126
CREATED:20240511T181133Z
LAST-MODIFIED:20251024T180212Z
UID:10005392-1723660200-1723667400@www.visitwesterville.org
SUMMARY:Social Nights at Daylight Artist Collective
DESCRIPTION:Looking to connect with other creative minds? Join us for a low-key BYOP (bring your own project) social event in Uptown Westerville.
URL:https://www.visitwesterville.org/event/social-nights-at-daylight-artist-collective/2024-08-14/
LOCATION:Daylight Artist Collective\, 9 E. College Ave.\, Westerville\, OH\, 43081\, United States
CATEGORIES:Classes
ATTACH;FMTTYPE=image/png:https://www.visitwesterville.org/wp-content/uploads/2023/10/daylight-artist.png
END:VEVENT
BEGIN:VEVENT
DTSTART;TZID=America/New_York:20240818T090000
DTEND;TZID=America/New_York:20240818T101500
DTSTAMP:20260421T165126
CREATED:20240418T144016Z
LAST-MODIFIED:20240418T144016Z
UID:10003489-1723971600-1723976100@www.visitwesterville.org
SUMMARY:Bend & Brunch: Yoga at North High
DESCRIPTION:Join Emma for an invigoration vinyasa flow in the beer garden at North High Brewing Westerville. Move through energizing poses\, find your inner balance\, then treat yourself to a well-deserved brunch (& beer). Grab a friend and spend time nourishing your mind and body.
URL:https://www.visitwesterville.org/event/bend-brunch-yoga-at-north-high/2024-08-18/
LOCATION:North High Brewing\, 250 S. State St.\, Westerville\, OH\, 43081\, United States
CATEGORIES:Classes,Sports & Recreation
ATTACH;FMTTYPE=image/png:https://www.visitwesterville.org/wp-content/uploads/2024/04/yoga.png
END:VEVENT
END:VCALENDAR