BEGIN:VCALENDAR
VERSION:2.0
PRODID:-//Visit Westerville - ECPv6.15.20//NONSGML v1.0//EN
CALSCALE:GREGORIAN
METHOD:PUBLISH
X-WR-CALNAME:Visit Westerville
X-ORIGINAL-URL:https://www.visitwesterville.org
X-WR-CALDESC:Events for Visit Westerville
REFRESH-INTERVAL;VALUE=DURATION:PT1H
X-Robots-Tag:noindex
X-PUBLISHED-TTL:PT1H
BEGIN:VTIMEZONE
TZID:America/New_York
BEGIN:DAYLIGHT
TZOFFSETFROM:-0500
TZOFFSETTO:-0400
TZNAME:EDT
DTSTART:20240310T070000
END:DAYLIGHT
BEGIN:STANDARD
TZOFFSETFROM:-0400
TZOFFSETTO:-0500
TZNAME:EST
DTSTART:20241103T060000
END:STANDARD
BEGIN:DAYLIGHT
TZOFFSETFROM:-0500
TZOFFSETTO:-0400
TZNAME:EDT
DTSTART:20250309T070000
END:DAYLIGHT
BEGIN:STANDARD
TZOFFSETFROM:-0400
TZOFFSETTO:-0500
TZNAME:EST
DTSTART:20251102T060000
END:STANDARD
BEGIN:DAYLIGHT
TZOFFSETFROM:-0500
TZOFFSETTO:-0400
TZNAME:EDT
DTSTART:20260308T070000
END:DAYLIGHT
BEGIN:STANDARD
TZOFFSETFROM:-0400
TZOFFSETTO:-0500
TZNAME:EST
DTSTART:20261101T060000
END:STANDARD
END:VTIMEZONE
BEGIN:VEVENT
DTSTART;TZID=America/New_York:20250108T183000
DTEND;TZID=America/New_York:20250108T203000
DTSTAMP:20260421T091231
CREATED:20240511T181133Z
LAST-MODIFIED:20251024T180212Z
UID:10005397-1736361000-1736368200@www.visitwesterville.org
SUMMARY:Social Nights at Daylight Artist Collective
DESCRIPTION:Looking to connect with other creative minds? Join us for a low-key BYOP (bring your own project) social event in Uptown Westerville.
URL:https://www.visitwesterville.org/event/social-nights-at-daylight-artist-collective/2025-01-08/
LOCATION:Daylight Artist Collective\, 9 E. College Ave.\, Westerville\, OH\, 43081\, United States
CATEGORIES:Classes
ATTACH;FMTTYPE=image/png:https://www.visitwesterville.org/wp-content/uploads/2023/10/daylight-artist.png
END:VEVENT
BEGIN:VEVENT
DTSTART;TZID=America/New_York:20250109T180000
DTEND;TZID=America/New_York:20250109T210000
DTSTAMP:20260421T091231
CREATED:20250103T155811Z
LAST-MODIFIED:20250103T155811Z
UID:10006698-1736445600-1736456400@www.visitwesterville.org
SUMMARY:Stained Glass Workshop
DESCRIPTION:You will make your own stained glass project in this 3 hour workshop! I will provide the design. You’ll choose the colors you want from my glass selection. You’ll learn to cut the glass\, grind it\, copper tape the edges\, then solder it all together\, patina & polish it. It generally takes folks the whole 3 hours to get all of this done. It’s a lot of new skills to learn\, so it’s challenging\, but fun. Especially when you have a beautiful piece to take home with you!
URL:https://www.visitwesterville.org/event/stained-glass-workshop-2/2025-01-09/
LOCATION:Daylight Artist Collective\, 9 E. College Ave.\, Westerville\, OH\, 43081\, United States
CATEGORIES:Arts,Classes
ATTACH;FMTTYPE=image/jpeg:https://www.visitwesterville.org/wp-content/uploads/2025/01/stainedglass1.jpeg
END:VEVENT
BEGIN:VEVENT
DTSTART;TZID=America/New_York:20250113T190000
DTEND;TZID=America/New_York:20250113T200000
DTSTAMP:20260421T091231
CREATED:20250103T161645Z
LAST-MODIFIED:20250103T161645Z
UID:10006702-1736794800-1736798400@www.visitwesterville.org
SUMMARY:Pause & Paint
DESCRIPTION:Read. Reflect. Paint! Join resident artist MahLeah Cochran for “Pause & Paint\,“ a soul-searching\, interpretative paint session. We’ll use watercolors to create paintings inspired by various words and passages from written materials. (Note: This workshop will take place at 30 East College Avenue\, Westerville OH 43081. Ramp accessible.)
URL:https://www.visitwesterville.org/event/pause-paint/2025-01-13/
LOCATION:Daylight Artist Collective\, 9 E. College Ave.\, Westerville\, OH\, 43081\, United States
CATEGORIES:Arts,Classes
ATTACH;FMTTYPE=image/png:https://www.visitwesterville.org/wp-content/uploads/2023/10/daylight-artist.png
END:VEVENT
BEGIN:VEVENT
DTSTART;TZID=America/New_York:20250127T190000
DTEND;TZID=America/New_York:20250127T200000
DTSTAMP:20260421T091231
CREATED:20250103T161645Z
LAST-MODIFIED:20250103T161645Z
UID:10006703-1738004400-1738008000@www.visitwesterville.org
SUMMARY:Pause & Paint
DESCRIPTION:Read. Reflect. Paint! Join resident artist MahLeah Cochran for “Pause & Paint\,“ a soul-searching\, interpretative paint session. We’ll use watercolors to create paintings inspired by various words and passages from written materials. (Note: This workshop will take place at 30 East College Avenue\, Westerville OH 43081. Ramp accessible.)
URL:https://www.visitwesterville.org/event/pause-paint/2025-01-27/
LOCATION:Daylight Artist Collective\, 9 E. College Ave.\, Westerville\, OH\, 43081\, United States
CATEGORIES:Arts,Classes
ATTACH;FMTTYPE=image/png:https://www.visitwesterville.org/wp-content/uploads/2023/10/daylight-artist.png
END:VEVENT
END:VCALENDAR