BEGIN:VCALENDAR
VERSION:2.0
PRODID:-//Visit Westerville - ECPv6.15.20//NONSGML v1.0//EN
CALSCALE:GREGORIAN
METHOD:PUBLISH
X-ORIGINAL-URL:https://www.visitwesterville.org
X-WR-CALDESC:Events for Visit Westerville
REFRESH-INTERVAL;VALUE=DURATION:PT1H
X-Robots-Tag:noindex
X-PUBLISHED-TTL:PT1H
BEGIN:VTIMEZONE
TZID:America/New_York
BEGIN:DAYLIGHT
TZOFFSETFROM:-0500
TZOFFSETTO:-0400
TZNAME:EDT
DTSTART:20230312T070000
END:DAYLIGHT
BEGIN:STANDARD
TZOFFSETFROM:-0400
TZOFFSETTO:-0500
TZNAME:EST
DTSTART:20231105T060000
END:STANDARD
BEGIN:DAYLIGHT
TZOFFSETFROM:-0500
TZOFFSETTO:-0400
TZNAME:EDT
DTSTART:20240310T070000
END:DAYLIGHT
BEGIN:STANDARD
TZOFFSETFROM:-0400
TZOFFSETTO:-0500
TZNAME:EST
DTSTART:20241103T060000
END:STANDARD
BEGIN:DAYLIGHT
TZOFFSETFROM:-0500
TZOFFSETTO:-0400
TZNAME:EDT
DTSTART:20250309T070000
END:DAYLIGHT
BEGIN:STANDARD
TZOFFSETFROM:-0400
TZOFFSETTO:-0500
TZNAME:EST
DTSTART:20251102T060000
END:STANDARD
END:VTIMEZONE
BEGIN:VEVENT
DTSTART;TZID=America/New_York:20241210T183000
DTEND;TZID=America/New_York:20241210T200000
DTSTAMP:20260421T124413
CREATED:20241127T172042Z
LAST-MODIFIED:20241127T172042Z
UID:10006590-1733855400-1733860800@www.visitwesterville.org
SUMMARY:Holiday Workshop: Charcuterie by Candlelight
DESCRIPTION:Join us for a cozy winter evening full of scents\, snacks\, and sips on Tuesday\, December 10th from 6:30-8pm! Create TWO custom luxury scented candles from our festive collection AND  enjoy delicious local charcuterie bites  along with complimentary wine pairings! DORA drinks welcome.
URL:https://www.visitwesterville.org/event/holiday-workshop-charcuterie-by-candlelight/
LOCATION:Blend Candle Co.\, 16 E. Main St.\, Westerville\, oh\, 43081\, United States
CATEGORIES:Classes,Crafts & Workshops,Holiday
ATTACH;FMTTYPE=image/jpeg:https://www.visitwesterville.org/wp-content/uploads/2024/03/Blend-Candle-Co.jpeg
END:VEVENT
END:VCALENDAR