BEGIN:VCALENDAR
VERSION:2.0
PRODID:-//Visit Westerville - ECPv6.15.20//NONSGML v1.0//EN
CALSCALE:GREGORIAN
METHOD:PUBLISH
X-WR-CALNAME:Visit Westerville
X-ORIGINAL-URL:https://www.visitwesterville.org
X-WR-CALDESC:Events for Visit Westerville
REFRESH-INTERVAL;VALUE=DURATION:PT1H
X-Robots-Tag:noindex
X-PUBLISHED-TTL:PT1H
BEGIN:VTIMEZONE
TZID:America/New_York
BEGIN:DAYLIGHT
TZOFFSETFROM:-0500
TZOFFSETTO:-0400
TZNAME:EDT
DTSTART:20230312T070000
END:DAYLIGHT
BEGIN:STANDARD
TZOFFSETFROM:-0400
TZOFFSETTO:-0500
TZNAME:EST
DTSTART:20231105T060000
END:STANDARD
BEGIN:DAYLIGHT
TZOFFSETFROM:-0500
TZOFFSETTO:-0400
TZNAME:EDT
DTSTART:20240310T070000
END:DAYLIGHT
BEGIN:STANDARD
TZOFFSETFROM:-0400
TZOFFSETTO:-0500
TZNAME:EST
DTSTART:20241103T060000
END:STANDARD
BEGIN:DAYLIGHT
TZOFFSETFROM:-0500
TZOFFSETTO:-0400
TZNAME:EDT
DTSTART:20250309T070000
END:DAYLIGHT
BEGIN:STANDARD
TZOFFSETFROM:-0400
TZOFFSETTO:-0500
TZNAME:EST
DTSTART:20251102T060000
END:STANDARD
END:VTIMEZONE
BEGIN:VEVENT
DTSTART;TZID=America/New_York:20241129T080000
DTEND;TZID=America/New_York:20241225T170000
DTSTAMP:20260423T183215
CREATED:20231024T193312Z
LAST-MODIFIED:20241111T221541Z
UID:10001047-1732867200-1735146000@www.visitwesterville.org
SUMMARY:Letters to Santa
DESCRIPTION:Beginning just after Thanksgiving through Christmas\, bring the family to Rotary Mini Park located in Uptown Westerville at the corner of N. State and Home St.  Enjoy a perfect\, well-lit spot to take pictures and then write and send your letters to Santa to be delivered just in time for Christmas.
URL:https://www.visitwesterville.org/event/letters-to-santa/
LOCATION:Rotary Mini Park\, 54 N. State St.\, Westerville\, OH\, 43081\, United States
CATEGORIES:Holiday,Seasonal
ATTACH;FMTTYPE=image/jpeg:https://www.visitwesterville.org/wp-content/uploads/2023/10/Santa-mail.jpg
END:VEVENT
BEGIN:VEVENT
DTSTART;TZID=America/New_York:20241207T110000
DTEND;TZID=America/New_York:20241207T140000
DTSTAMP:20260423T183215
CREATED:20241111T183803Z
LAST-MODIFIED:20241111T183803Z
UID:10006575-1733569200-1733580000@www.visitwesterville.org
SUMMARY:It’s a Wonderful Westerville Scavenger Hunt
DESCRIPTION:The 2024 “It’s a Wonderful Westerville” Uptown Scavenger Hunt will take place from 11 a.m. to 2 p.m. across the historic business district. Pick up maps for the hunt at Uptown Businesses. Be sure to make a stop to visit Santa and Mrs. Claus at Howard Hanna Real Estate Services/The McCurdy Team\, 42 N. State St.
URL:https://www.visitwesterville.org/event/its-a-wonderful-westerville-scavenger-hunt/
LOCATION:Uptown Westerville\, Main St.\, Westerville\, OH\, 43081\, United States
CATEGORIES:Holiday,Seasonal
ATTACH;FMTTYPE=image/png:https://www.visitwesterville.org/wp-content/uploads/2024/11/uptown-holiday-shopping.png
END:VEVENT
BEGIN:VEVENT
DTSTART;TZID=America/New_York:20241207T160000
DTEND;TZID=America/New_York:20241207T170000
DTSTAMP:20260423T183215
CREATED:20240916T141454Z
LAST-MODIFIED:20241111T190345Z
UID:10006445-1733587200-1733590800@www.visitwesterville.org
SUMMARY:Uptown Scrooge
DESCRIPTION:Now A Seated Performance! \nThis year you’ll take a seat for a whirlwind interactive holiday experience like no other! Our fast-paced rendition of “A Christmas Carol” packs all the magic and mayhem into a one hour! \nGreeted by cheerful carolers and a grumpy (and dead) Jacob Marley\, you’ll be checked in and ready for the show in the stage room at Java Central Cafe. \nOur dynamic cast—including Nephew Fred\, the Ghosts of Christmas Present\, Past\,  Future\, and a precocious Tiny Tim—will guide you through the story at lightning speed. The twist? You are the star! The audience plays Scrooge\, controlling the narrative. \nWith a list of 10 chapter titles\, the audience controls the order of the story. When you hear “HUMBUG\,” it’s your cue to shout out the number of the next chapter\, whether it’s Chapter 1\, Chapter 10\, or any other—there are no rules! The story can unfold in any order\, keeping everyone on their toes. As the sands of time tick down\, the challenge is to complete the entire tale in just 45 minutes. \nIf your heart has grown three sizes by the end\, you’ll be sent on your merry way. Embrace the excitement and joy of this interactive holiday classic! Bah Humbug!
URL:https://www.visitwesterville.org/event/uptown-scrooge/2024-12-07/
LOCATION:Java Central Coffee Roasters\, 20 S. State St.\, Ste. B\, Westerville\, OH\, 43081\, United States
CATEGORIES:Holiday,Live Music & Performances
ATTACH;FMTTYPE=image/png:https://www.visitwesterville.org/wp-content/uploads/2024/09/Scrooge.png
END:VEVENT
END:VCALENDAR