BEGIN:VCALENDAR
VERSION:2.0
PRODID:-//Visit Westerville - ECPv6.15.20//NONSGML v1.0//EN
CALSCALE:GREGORIAN
METHOD:PUBLISH
X-WR-CALNAME:Visit Westerville
X-ORIGINAL-URL:https://www.visitwesterville.org
X-WR-CALDESC:Events for Visit Westerville
REFRESH-INTERVAL;VALUE=DURATION:PT1H
X-Robots-Tag:noindex
X-PUBLISHED-TTL:PT1H
BEGIN:VTIMEZONE
TZID:America/New_York
BEGIN:DAYLIGHT
TZOFFSETFROM:-0500
TZOFFSETTO:-0400
TZNAME:EDT
DTSTART:20230312T070000
END:DAYLIGHT
BEGIN:STANDARD
TZOFFSETFROM:-0400
TZOFFSETTO:-0500
TZNAME:EST
DTSTART:20231105T060000
END:STANDARD
BEGIN:DAYLIGHT
TZOFFSETFROM:-0500
TZOFFSETTO:-0400
TZNAME:EDT
DTSTART:20240310T070000
END:DAYLIGHT
BEGIN:STANDARD
TZOFFSETFROM:-0400
TZOFFSETTO:-0500
TZNAME:EST
DTSTART:20241103T060000
END:STANDARD
BEGIN:DAYLIGHT
TZOFFSETFROM:-0500
TZOFFSETTO:-0400
TZNAME:EDT
DTSTART:20250309T070000
END:DAYLIGHT
BEGIN:STANDARD
TZOFFSETFROM:-0400
TZOFFSETTO:-0500
TZNAME:EST
DTSTART:20251102T060000
END:STANDARD
END:VTIMEZONE
BEGIN:VEVENT
DTSTART;TZID=America/New_York:20241129T080000
DTEND;TZID=America/New_York:20241225T170000
DTSTAMP:20260423T183105
CREATED:20231024T193312Z
LAST-MODIFIED:20241111T221541Z
UID:10001047-1732867200-1735146000@www.visitwesterville.org
SUMMARY:Letters to Santa
DESCRIPTION:Beginning just after Thanksgiving through Christmas\, bring the family to Rotary Mini Park located in Uptown Westerville at the corner of N. State and Home St.  Enjoy a perfect\, well-lit spot to take pictures and then write and send your letters to Santa to be delivered just in time for Christmas.
URL:https://www.visitwesterville.org/event/letters-to-santa/
LOCATION:Rotary Mini Park\, 54 N. State St.\, Westerville\, OH\, 43081\, United States
CATEGORIES:Holiday,Seasonal
ATTACH;FMTTYPE=image/jpeg:https://www.visitwesterville.org/wp-content/uploads/2023/10/Santa-mail.jpg
END:VEVENT
BEGIN:VEVENT
DTSTART;TZID=America/New_York:20241221T130000
DTEND;TZID=America/New_York:20241221T150000
DTSTAMP:20260423T183106
CREATED:20241121T185004Z
LAST-MODIFIED:20241121T185004Z
UID:10006588-1734786000-1734793200@www.visitwesterville.org
SUMMARY:Foreverlink Pop Up at Meza
DESCRIPTION:Grab your girlfriends and get a permeant jewelry piece done with Foreverlink! She will be popping up with her beautiful selection of rings\, bracelets\, necklaces! Get your jewelry and grab a DORA drink to enjoy while you hang and shop – and sample select wines!
URL:https://www.visitwesterville.org/event/foreverlink-pop-up-at-meza/
LOCATION:Meza Wine Shop\, 48 N. State St.\, Westerville\, OH\, 43081\, United States
CATEGORIES:Culinary,Holiday,Shopping
ATTACH;FMTTYPE=image/jpeg:https://www.visitwesterville.org/wp-content/uploads/2024/11/61F91FC3-54FC-4543-A474-23A94F10545B.jpeg
END:VEVENT
END:VCALENDAR