BEGIN:VCALENDAR
VERSION:2.0
PRODID:-//Visit Westerville - ECPv6.15.20//NONSGML v1.0//EN
CALSCALE:GREGORIAN
METHOD:PUBLISH
X-ORIGINAL-URL:https://www.visitwesterville.org
X-WR-CALDESC:Events for Visit Westerville
REFRESH-INTERVAL;VALUE=DURATION:PT1H
X-Robots-Tag:noindex
X-PUBLISHED-TTL:PT1H
BEGIN:VTIMEZONE
TZID:America/New_York
BEGIN:DAYLIGHT
TZOFFSETFROM:-0500
TZOFFSETTO:-0400
TZNAME:EDT
DTSTART:20270314T070000
END:DAYLIGHT
BEGIN:STANDARD
TZOFFSETFROM:-0400
TZOFFSETTO:-0500
TZNAME:EST
DTSTART:20271107T060000
END:STANDARD
BEGIN:DAYLIGHT
TZOFFSETFROM:-0500
TZOFFSETTO:-0400
TZNAME:EDT
DTSTART:20280312T070000
END:DAYLIGHT
BEGIN:STANDARD
TZOFFSETFROM:-0400
TZOFFSETTO:-0500
TZNAME:EST
DTSTART:20281105T060000
END:STANDARD
BEGIN:DAYLIGHT
TZOFFSETFROM:-0500
TZOFFSETTO:-0400
TZNAME:EDT
DTSTART:20290311T070000
END:DAYLIGHT
BEGIN:STANDARD
TZOFFSETFROM:-0400
TZOFFSETTO:-0500
TZNAME:EST
DTSTART:20291104T060000
END:STANDARD
END:VTIMEZONE
BEGIN:VEVENT
DTSTART;TZID=America/New_York:20280315T180000
DTEND;TZID=America/New_York:20280315T220000
DTSTAMP:20260419T082211
CREATED:20240511T180440Z
LAST-MODIFIED:20240511T180440Z
UID:10004964-1836756000-1836770400@www.visitwesterville.org
SUMMARY:Live Music at Giammarco's
DESCRIPTION:Live entertainment offered on the Patio or in the Grotto on select nights.  Please see Entertainment Calendar for scheduled dates.  Please make note when making reservation if it’s for the entertainment.
URL:https://www.visitwesterville.org/event/live-music-at-giammarcos/2028-03-15/
LOCATION:Giammarco’s Italian Restaurant\, 6030 Chandler Ct.\, Westerville\, OH\, 43082\, United States
CATEGORIES:Live Music & Performances
ATTACH;FMTTYPE=image/png:https://www.visitwesterville.org/wp-content/uploads/2024/05/Steve-Joe-Warm-2014-1024x683-1.png
END:VEVENT
BEGIN:VEVENT
DTSTART;TZID=America/New_York:20280316T180000
DTEND;TZID=America/New_York:20280316T220000
DTSTAMP:20260419T082211
CREATED:20240511T180440Z
LAST-MODIFIED:20240511T180440Z
UID:10004965-1836842400-1836856800@www.visitwesterville.org
SUMMARY:Live Music at Giammarco's
DESCRIPTION:Live entertainment offered on the Patio or in the Grotto on select nights.  Please see Entertainment Calendar for scheduled dates.  Please make note when making reservation if it’s for the entertainment.
URL:https://www.visitwesterville.org/event/live-music-at-giammarcos/2028-03-16/
LOCATION:Giammarco’s Italian Restaurant\, 6030 Chandler Ct.\, Westerville\, OH\, 43082\, United States
CATEGORIES:Live Music & Performances
ATTACH;FMTTYPE=image/png:https://www.visitwesterville.org/wp-content/uploads/2024/05/Steve-Joe-Warm-2014-1024x683-1.png
END:VEVENT
BEGIN:VEVENT
DTSTART;TZID=America/New_York:20280317T180000
DTEND;TZID=America/New_York:20280317T220000
DTSTAMP:20260419T082212
CREATED:20240511T180440Z
LAST-MODIFIED:20240511T180440Z
UID:10004966-1836928800-1836943200@www.visitwesterville.org
SUMMARY:Live Music at Giammarco's
DESCRIPTION:Live entertainment offered on the Patio or in the Grotto on select nights.  Please see Entertainment Calendar for scheduled dates.  Please make note when making reservation if it’s for the entertainment.
URL:https://www.visitwesterville.org/event/live-music-at-giammarcos/2028-03-17/
LOCATION:Giammarco’s Italian Restaurant\, 6030 Chandler Ct.\, Westerville\, OH\, 43082\, United States
CATEGORIES:Live Music & Performances
ATTACH;FMTTYPE=image/png:https://www.visitwesterville.org/wp-content/uploads/2024/05/Steve-Joe-Warm-2014-1024x683-1.png
END:VEVENT
BEGIN:VEVENT
DTSTART;TZID=America/New_York:20280317T190000
DTEND;TZID=America/New_York:20280317T220000
DTSTAMP:20260419T082212
CREATED:20250327T151922Z
LAST-MODIFIED:20251008T004322Z
UID:10007568-1836932400-1836943200@www.visitwesterville.org
SUMMARY:Acoustic Open Mic at Java Central
DESCRIPTION:Acoustic One Mic! Every Friday at Java Central from 7pm-10pm. Very eclectic and very good! Welcoming everyone with musical talent and/or aspirations to sing and play – considered one of the best around.
URL:https://www.visitwesterville.org/event/acoustic-open-mic-at-java-central-2/2028-03-17/
LOCATION:Java Central Coffee Roasters\, 20 S. State St.\, Ste. B\, Westerville\, OH\, 43081\, United States
CATEGORIES:Live Music & Performances
ATTACH;FMTTYPE=image/jpeg:https://www.visitwesterville.org/wp-content/uploads/2023/06/Java-Central.jpg
END:VEVENT
BEGIN:VEVENT
DTSTART;TZID=America/New_York:20280318T180000
DTEND;TZID=America/New_York:20280318T220000
DTSTAMP:20260419T082212
CREATED:20240511T180440Z
LAST-MODIFIED:20240511T180440Z
UID:10004967-1837015200-1837029600@www.visitwesterville.org
SUMMARY:Live Music at Giammarco's
DESCRIPTION:Live entertainment offered on the Patio or in the Grotto on select nights.  Please see Entertainment Calendar for scheduled dates.  Please make note when making reservation if it’s for the entertainment.
URL:https://www.visitwesterville.org/event/live-music-at-giammarcos/2028-03-18/
LOCATION:Giammarco’s Italian Restaurant\, 6030 Chandler Ct.\, Westerville\, OH\, 43082\, United States
CATEGORIES:Live Music & Performances
ATTACH;FMTTYPE=image/png:https://www.visitwesterville.org/wp-content/uploads/2024/05/Steve-Joe-Warm-2014-1024x683-1.png
END:VEVENT
BEGIN:VEVENT
DTSTART;TZID=America/New_York:20280318T190000
DTEND;TZID=America/New_York:20280318T213000
DTSTAMP:20260419T082212
CREATED:20251101T211941Z
LAST-MODIFIED:20260418T155000Z
UID:10007901-1837018800-1837027800@www.visitwesterville.org
SUMMARY:Live Music at Java Central
DESCRIPTION:Come to Java Central for live entertainment and delicious drinks every Friday and Saturday night. \n 
URL:https://www.visitwesterville.org/event/live-music-at-java-central-6/2028-03-18/
LOCATION:Java Central Coffee Roasters\, 20 S. State St.\, Ste. B\, Westerville\, OH\, 43081\, United States
CATEGORIES:Live Music & Performances
ATTACH;FMTTYPE=image/jpeg:https://www.visitwesterville.org/wp-content/uploads/2025/11/IMG_5573.jpeg
END:VEVENT
BEGIN:VEVENT
DTSTART;TZID=America/New_York:20280319T180000
DTEND;TZID=America/New_York:20280319T220000
DTSTAMP:20260419T082212
CREATED:20240511T180440Z
LAST-MODIFIED:20240511T180440Z
UID:10004968-1837101600-1837116000@www.visitwesterville.org
SUMMARY:Live Music at Giammarco's
DESCRIPTION:Live entertainment offered on the Patio or in the Grotto on select nights.  Please see Entertainment Calendar for scheduled dates.  Please make note when making reservation if it’s for the entertainment.
URL:https://www.visitwesterville.org/event/live-music-at-giammarcos/2028-03-19/
LOCATION:Giammarco’s Italian Restaurant\, 6030 Chandler Ct.\, Westerville\, OH\, 43082\, United States
CATEGORIES:Live Music & Performances
ATTACH;FMTTYPE=image/png:https://www.visitwesterville.org/wp-content/uploads/2024/05/Steve-Joe-Warm-2014-1024x683-1.png
END:VEVENT
BEGIN:VEVENT
DTSTART;TZID=America/New_York:20280320T180000
DTEND;TZID=America/New_York:20280320T220000
DTSTAMP:20260419T082212
CREATED:20240511T180440Z
LAST-MODIFIED:20240511T180440Z
UID:10004969-1837188000-1837202400@www.visitwesterville.org
SUMMARY:Live Music at Giammarco's
DESCRIPTION:Live entertainment offered on the Patio or in the Grotto on select nights.  Please see Entertainment Calendar for scheduled dates.  Please make note when making reservation if it’s for the entertainment.
URL:https://www.visitwesterville.org/event/live-music-at-giammarcos/2028-03-20/
LOCATION:Giammarco’s Italian Restaurant\, 6030 Chandler Ct.\, Westerville\, OH\, 43082\, United States
CATEGORIES:Live Music & Performances
ATTACH;FMTTYPE=image/png:https://www.visitwesterville.org/wp-content/uploads/2024/05/Steve-Joe-Warm-2014-1024x683-1.png
END:VEVENT
BEGIN:VEVENT
DTSTART;TZID=America/New_York:20280321T180000
DTEND;TZID=America/New_York:20280321T220000
DTSTAMP:20260419T082212
CREATED:20240511T180440Z
LAST-MODIFIED:20240511T180440Z
UID:10004970-1837274400-1837288800@www.visitwesterville.org
SUMMARY:Live Music at Giammarco's
DESCRIPTION:Live entertainment offered on the Patio or in the Grotto on select nights.  Please see Entertainment Calendar for scheduled dates.  Please make note when making reservation if it’s for the entertainment.
URL:https://www.visitwesterville.org/event/live-music-at-giammarcos/2028-03-21/
LOCATION:Giammarco’s Italian Restaurant\, 6030 Chandler Ct.\, Westerville\, OH\, 43082\, United States
CATEGORIES:Live Music & Performances
ATTACH;FMTTYPE=image/png:https://www.visitwesterville.org/wp-content/uploads/2024/05/Steve-Joe-Warm-2014-1024x683-1.png
END:VEVENT
BEGIN:VEVENT
DTSTART;TZID=America/New_York:20280322T180000
DTEND;TZID=America/New_York:20280322T220000
DTSTAMP:20260419T082212
CREATED:20240511T180440Z
LAST-MODIFIED:20240511T180440Z
UID:10004971-1837360800-1837375200@www.visitwesterville.org
SUMMARY:Live Music at Giammarco's
DESCRIPTION:Live entertainment offered on the Patio or in the Grotto on select nights.  Please see Entertainment Calendar for scheduled dates.  Please make note when making reservation if it’s for the entertainment.
URL:https://www.visitwesterville.org/event/live-music-at-giammarcos/2028-03-22/
LOCATION:Giammarco’s Italian Restaurant\, 6030 Chandler Ct.\, Westerville\, OH\, 43082\, United States
CATEGORIES:Live Music & Performances
ATTACH;FMTTYPE=image/png:https://www.visitwesterville.org/wp-content/uploads/2024/05/Steve-Joe-Warm-2014-1024x683-1.png
END:VEVENT
BEGIN:VEVENT
DTSTART;TZID=America/New_York:20280323T180000
DTEND;TZID=America/New_York:20280323T220000
DTSTAMP:20260419T082212
CREATED:20240511T180440Z
LAST-MODIFIED:20240511T180440Z
UID:10004972-1837447200-1837461600@www.visitwesterville.org
SUMMARY:Live Music at Giammarco's
DESCRIPTION:Live entertainment offered on the Patio or in the Grotto on select nights.  Please see Entertainment Calendar for scheduled dates.  Please make note when making reservation if it’s for the entertainment.
URL:https://www.visitwesterville.org/event/live-music-at-giammarcos/2028-03-23/
LOCATION:Giammarco’s Italian Restaurant\, 6030 Chandler Ct.\, Westerville\, OH\, 43082\, United States
CATEGORIES:Live Music & Performances
ATTACH;FMTTYPE=image/png:https://www.visitwesterville.org/wp-content/uploads/2024/05/Steve-Joe-Warm-2014-1024x683-1.png
END:VEVENT
BEGIN:VEVENT
DTSTART;TZID=America/New_York:20280324T180000
DTEND;TZID=America/New_York:20280324T220000
DTSTAMP:20260419T082212
CREATED:20240511T180440Z
LAST-MODIFIED:20240511T180440Z
UID:10004973-1837533600-1837548000@www.visitwesterville.org
SUMMARY:Live Music at Giammarco's
DESCRIPTION:Live entertainment offered on the Patio or in the Grotto on select nights.  Please see Entertainment Calendar for scheduled dates.  Please make note when making reservation if it’s for the entertainment.
URL:https://www.visitwesterville.org/event/live-music-at-giammarcos/2028-03-24/
LOCATION:Giammarco’s Italian Restaurant\, 6030 Chandler Ct.\, Westerville\, OH\, 43082\, United States
CATEGORIES:Live Music & Performances
ATTACH;FMTTYPE=image/png:https://www.visitwesterville.org/wp-content/uploads/2024/05/Steve-Joe-Warm-2014-1024x683-1.png
END:VEVENT
BEGIN:VEVENT
DTSTART;TZID=America/New_York:20280324T190000
DTEND;TZID=America/New_York:20280324T220000
DTSTAMP:20260419T082212
CREATED:20250327T151922Z
LAST-MODIFIED:20251008T004322Z
UID:10007569-1837537200-1837548000@www.visitwesterville.org
SUMMARY:Acoustic Open Mic at Java Central
DESCRIPTION:Acoustic One Mic! Every Friday at Java Central from 7pm-10pm. Very eclectic and very good! Welcoming everyone with musical talent and/or aspirations to sing and play – considered one of the best around.
URL:https://www.visitwesterville.org/event/acoustic-open-mic-at-java-central-2/2028-03-24/
LOCATION:Java Central Coffee Roasters\, 20 S. State St.\, Ste. B\, Westerville\, OH\, 43081\, United States
CATEGORIES:Live Music & Performances
ATTACH;FMTTYPE=image/jpeg:https://www.visitwesterville.org/wp-content/uploads/2023/06/Java-Central.jpg
END:VEVENT
BEGIN:VEVENT
DTSTART;TZID=America/New_York:20280325T180000
DTEND;TZID=America/New_York:20280325T220000
DTSTAMP:20260419T082212
CREATED:20240511T180440Z
LAST-MODIFIED:20240511T180440Z
UID:10004974-1837620000-1837634400@www.visitwesterville.org
SUMMARY:Live Music at Giammarco's
DESCRIPTION:Live entertainment offered on the Patio or in the Grotto on select nights.  Please see Entertainment Calendar for scheduled dates.  Please make note when making reservation if it’s for the entertainment.
URL:https://www.visitwesterville.org/event/live-music-at-giammarcos/2028-03-25/
LOCATION:Giammarco’s Italian Restaurant\, 6030 Chandler Ct.\, Westerville\, OH\, 43082\, United States
CATEGORIES:Live Music & Performances
ATTACH;FMTTYPE=image/png:https://www.visitwesterville.org/wp-content/uploads/2024/05/Steve-Joe-Warm-2014-1024x683-1.png
END:VEVENT
BEGIN:VEVENT
DTSTART;TZID=America/New_York:20280325T190000
DTEND;TZID=America/New_York:20280325T213000
DTSTAMP:20260419T082212
CREATED:20251101T211941Z
LAST-MODIFIED:20260418T155000Z
UID:10007902-1837623600-1837632600@www.visitwesterville.org
SUMMARY:Live Music at Java Central
DESCRIPTION:Come to Java Central for live entertainment and delicious drinks every Friday and Saturday night. \n 
URL:https://www.visitwesterville.org/event/live-music-at-java-central-6/2028-03-25/
LOCATION:Java Central Coffee Roasters\, 20 S. State St.\, Ste. B\, Westerville\, OH\, 43081\, United States
CATEGORIES:Live Music & Performances
ATTACH;FMTTYPE=image/jpeg:https://www.visitwesterville.org/wp-content/uploads/2025/11/IMG_5573.jpeg
END:VEVENT
BEGIN:VEVENT
DTSTART;TZID=America/New_York:20280326T180000
DTEND;TZID=America/New_York:20280326T220000
DTSTAMP:20260419T082212
CREATED:20240511T180440Z
LAST-MODIFIED:20240511T180440Z
UID:10004975-1837706400-1837720800@www.visitwesterville.org
SUMMARY:Live Music at Giammarco's
DESCRIPTION:Live entertainment offered on the Patio or in the Grotto on select nights.  Please see Entertainment Calendar for scheduled dates.  Please make note when making reservation if it’s for the entertainment.
URL:https://www.visitwesterville.org/event/live-music-at-giammarcos/2028-03-26/
LOCATION:Giammarco’s Italian Restaurant\, 6030 Chandler Ct.\, Westerville\, OH\, 43082\, United States
CATEGORIES:Live Music & Performances
ATTACH;FMTTYPE=image/png:https://www.visitwesterville.org/wp-content/uploads/2024/05/Steve-Joe-Warm-2014-1024x683-1.png
END:VEVENT
BEGIN:VEVENT
DTSTART;TZID=America/New_York:20280327T180000
DTEND;TZID=America/New_York:20280327T220000
DTSTAMP:20260419T082212
CREATED:20240511T180440Z
LAST-MODIFIED:20240511T180440Z
UID:10004976-1837792800-1837807200@www.visitwesterville.org
SUMMARY:Live Music at Giammarco's
DESCRIPTION:Live entertainment offered on the Patio or in the Grotto on select nights.  Please see Entertainment Calendar for scheduled dates.  Please make note when making reservation if it’s for the entertainment.
URL:https://www.visitwesterville.org/event/live-music-at-giammarcos/2028-03-27/
LOCATION:Giammarco’s Italian Restaurant\, 6030 Chandler Ct.\, Westerville\, OH\, 43082\, United States
CATEGORIES:Live Music & Performances
ATTACH;FMTTYPE=image/png:https://www.visitwesterville.org/wp-content/uploads/2024/05/Steve-Joe-Warm-2014-1024x683-1.png
END:VEVENT
BEGIN:VEVENT
DTSTART;TZID=America/New_York:20280328T180000
DTEND;TZID=America/New_York:20280328T220000
DTSTAMP:20260419T082212
CREATED:20240511T180440Z
LAST-MODIFIED:20240511T180440Z
UID:10004977-1837879200-1837893600@www.visitwesterville.org
SUMMARY:Live Music at Giammarco's
DESCRIPTION:Live entertainment offered on the Patio or in the Grotto on select nights.  Please see Entertainment Calendar for scheduled dates.  Please make note when making reservation if it’s for the entertainment.
URL:https://www.visitwesterville.org/event/live-music-at-giammarcos/2028-03-28/
LOCATION:Giammarco’s Italian Restaurant\, 6030 Chandler Ct.\, Westerville\, OH\, 43082\, United States
CATEGORIES:Live Music & Performances
ATTACH;FMTTYPE=image/png:https://www.visitwesterville.org/wp-content/uploads/2024/05/Steve-Joe-Warm-2014-1024x683-1.png
END:VEVENT
BEGIN:VEVENT
DTSTART;TZID=America/New_York:20280329T180000
DTEND;TZID=America/New_York:20280329T220000
DTSTAMP:20260419T082212
CREATED:20240511T180440Z
LAST-MODIFIED:20240511T180440Z
UID:10004978-1837965600-1837980000@www.visitwesterville.org
SUMMARY:Live Music at Giammarco's
DESCRIPTION:Live entertainment offered on the Patio or in the Grotto on select nights.  Please see Entertainment Calendar for scheduled dates.  Please make note when making reservation if it’s for the entertainment.
URL:https://www.visitwesterville.org/event/live-music-at-giammarcos/2028-03-29/
LOCATION:Giammarco’s Italian Restaurant\, 6030 Chandler Ct.\, Westerville\, OH\, 43082\, United States
CATEGORIES:Live Music & Performances
ATTACH;FMTTYPE=image/png:https://www.visitwesterville.org/wp-content/uploads/2024/05/Steve-Joe-Warm-2014-1024x683-1.png
END:VEVENT
BEGIN:VEVENT
DTSTART;TZID=America/New_York:20280330T180000
DTEND;TZID=America/New_York:20280330T220000
DTSTAMP:20260419T082212
CREATED:20240511T180440Z
LAST-MODIFIED:20240511T180440Z
UID:10004979-1838052000-1838066400@www.visitwesterville.org
SUMMARY:Live Music at Giammarco's
DESCRIPTION:Live entertainment offered on the Patio or in the Grotto on select nights.  Please see Entertainment Calendar for scheduled dates.  Please make note when making reservation if it’s for the entertainment.
URL:https://www.visitwesterville.org/event/live-music-at-giammarcos/2028-03-30/
LOCATION:Giammarco’s Italian Restaurant\, 6030 Chandler Ct.\, Westerville\, OH\, 43082\, United States
CATEGORIES:Live Music & Performances
ATTACH;FMTTYPE=image/png:https://www.visitwesterville.org/wp-content/uploads/2024/05/Steve-Joe-Warm-2014-1024x683-1.png
END:VEVENT
BEGIN:VEVENT
DTSTART;TZID=America/New_York:20280331T180000
DTEND;TZID=America/New_York:20280331T220000
DTSTAMP:20260419T082212
CREATED:20240511T180440Z
LAST-MODIFIED:20240511T180440Z
UID:10004980-1838138400-1838152800@www.visitwesterville.org
SUMMARY:Live Music at Giammarco's
DESCRIPTION:Live entertainment offered on the Patio or in the Grotto on select nights.  Please see Entertainment Calendar for scheduled dates.  Please make note when making reservation if it’s for the entertainment.
URL:https://www.visitwesterville.org/event/live-music-at-giammarcos/2028-03-31/
LOCATION:Giammarco’s Italian Restaurant\, 6030 Chandler Ct.\, Westerville\, OH\, 43082\, United States
CATEGORIES:Live Music & Performances
ATTACH;FMTTYPE=image/png:https://www.visitwesterville.org/wp-content/uploads/2024/05/Steve-Joe-Warm-2014-1024x683-1.png
END:VEVENT
BEGIN:VEVENT
DTSTART;TZID=America/New_York:20280331T190000
DTEND;TZID=America/New_York:20280331T220000
DTSTAMP:20260419T082212
CREATED:20250327T151922Z
LAST-MODIFIED:20251008T004322Z
UID:10007570-1838142000-1838152800@www.visitwesterville.org
SUMMARY:Acoustic Open Mic at Java Central
DESCRIPTION:Acoustic One Mic! Every Friday at Java Central from 7pm-10pm. Very eclectic and very good! Welcoming everyone with musical talent and/or aspirations to sing and play – considered one of the best around.
URL:https://www.visitwesterville.org/event/acoustic-open-mic-at-java-central-2/2028-03-31/
LOCATION:Java Central Coffee Roasters\, 20 S. State St.\, Ste. B\, Westerville\, OH\, 43081\, United States
CATEGORIES:Live Music & Performances
ATTACH;FMTTYPE=image/jpeg:https://www.visitwesterville.org/wp-content/uploads/2023/06/Java-Central.jpg
END:VEVENT
BEGIN:VEVENT
DTSTART;TZID=America/New_York:20280401T180000
DTEND;TZID=America/New_York:20280401T220000
DTSTAMP:20260419T082212
CREATED:20240511T180440Z
LAST-MODIFIED:20240511T180440Z
UID:10004981-1838224800-1838239200@www.visitwesterville.org
SUMMARY:Live Music at Giammarco's
DESCRIPTION:Live entertainment offered on the Patio or in the Grotto on select nights.  Please see Entertainment Calendar for scheduled dates.  Please make note when making reservation if it’s for the entertainment.
URL:https://www.visitwesterville.org/event/live-music-at-giammarcos/2028-04-01/
LOCATION:Giammarco’s Italian Restaurant\, 6030 Chandler Ct.\, Westerville\, OH\, 43082\, United States
CATEGORIES:Live Music & Performances
ATTACH;FMTTYPE=image/png:https://www.visitwesterville.org/wp-content/uploads/2024/05/Steve-Joe-Warm-2014-1024x683-1.png
END:VEVENT
BEGIN:VEVENT
DTSTART;TZID=America/New_York:20280401T190000
DTEND;TZID=America/New_York:20280401T213000
DTSTAMP:20260419T082212
CREATED:20251101T211941Z
LAST-MODIFIED:20260418T155000Z
UID:10007903-1838228400-1838237400@www.visitwesterville.org
SUMMARY:Live Music at Java Central
DESCRIPTION:Come to Java Central for live entertainment and delicious drinks every Friday and Saturday night. \n 
URL:https://www.visitwesterville.org/event/live-music-at-java-central-6/2028-04-01/
LOCATION:Java Central Coffee Roasters\, 20 S. State St.\, Ste. B\, Westerville\, OH\, 43081\, United States
CATEGORIES:Live Music & Performances
ATTACH;FMTTYPE=image/jpeg:https://www.visitwesterville.org/wp-content/uploads/2025/11/IMG_5573.jpeg
END:VEVENT
BEGIN:VEVENT
DTSTART;TZID=America/New_York:20280402T180000
DTEND;TZID=America/New_York:20280402T220000
DTSTAMP:20260419T082212
CREATED:20240511T180440Z
LAST-MODIFIED:20240511T180440Z
UID:10004982-1838311200-1838325600@www.visitwesterville.org
SUMMARY:Live Music at Giammarco's
DESCRIPTION:Live entertainment offered on the Patio or in the Grotto on select nights.  Please see Entertainment Calendar for scheduled dates.  Please make note when making reservation if it’s for the entertainment.
URL:https://www.visitwesterville.org/event/live-music-at-giammarcos/2028-04-02/
LOCATION:Giammarco’s Italian Restaurant\, 6030 Chandler Ct.\, Westerville\, OH\, 43082\, United States
CATEGORIES:Live Music & Performances
ATTACH;FMTTYPE=image/png:https://www.visitwesterville.org/wp-content/uploads/2024/05/Steve-Joe-Warm-2014-1024x683-1.png
END:VEVENT
BEGIN:VEVENT
DTSTART;TZID=America/New_York:20280403T180000
DTEND;TZID=America/New_York:20280403T220000
DTSTAMP:20260419T082212
CREATED:20240511T180440Z
LAST-MODIFIED:20240511T180440Z
UID:10004983-1838397600-1838412000@www.visitwesterville.org
SUMMARY:Live Music at Giammarco's
DESCRIPTION:Live entertainment offered on the Patio or in the Grotto on select nights.  Please see Entertainment Calendar for scheduled dates.  Please make note when making reservation if it’s for the entertainment.
URL:https://www.visitwesterville.org/event/live-music-at-giammarcos/2028-04-03/
LOCATION:Giammarco’s Italian Restaurant\, 6030 Chandler Ct.\, Westerville\, OH\, 43082\, United States
CATEGORIES:Live Music & Performances
ATTACH;FMTTYPE=image/png:https://www.visitwesterville.org/wp-content/uploads/2024/05/Steve-Joe-Warm-2014-1024x683-1.png
END:VEVENT
BEGIN:VEVENT
DTSTART;TZID=America/New_York:20280404T180000
DTEND;TZID=America/New_York:20280404T220000
DTSTAMP:20260419T082212
CREATED:20240511T180440Z
LAST-MODIFIED:20240511T180440Z
UID:10004984-1838484000-1838498400@www.visitwesterville.org
SUMMARY:Live Music at Giammarco's
DESCRIPTION:Live entertainment offered on the Patio or in the Grotto on select nights.  Please see Entertainment Calendar for scheduled dates.  Please make note when making reservation if it’s for the entertainment.
URL:https://www.visitwesterville.org/event/live-music-at-giammarcos/2028-04-04/
LOCATION:Giammarco’s Italian Restaurant\, 6030 Chandler Ct.\, Westerville\, OH\, 43082\, United States
CATEGORIES:Live Music & Performances
ATTACH;FMTTYPE=image/png:https://www.visitwesterville.org/wp-content/uploads/2024/05/Steve-Joe-Warm-2014-1024x683-1.png
END:VEVENT
BEGIN:VEVENT
DTSTART;TZID=America/New_York:20280405T180000
DTEND;TZID=America/New_York:20280405T220000
DTSTAMP:20260419T082212
CREATED:20240511T180440Z
LAST-MODIFIED:20240511T180440Z
UID:10004985-1838570400-1838584800@www.visitwesterville.org
SUMMARY:Live Music at Giammarco's
DESCRIPTION:Live entertainment offered on the Patio or in the Grotto on select nights.  Please see Entertainment Calendar for scheduled dates.  Please make note when making reservation if it’s for the entertainment.
URL:https://www.visitwesterville.org/event/live-music-at-giammarcos/2028-04-05/
LOCATION:Giammarco’s Italian Restaurant\, 6030 Chandler Ct.\, Westerville\, OH\, 43082\, United States
CATEGORIES:Live Music & Performances
ATTACH;FMTTYPE=image/png:https://www.visitwesterville.org/wp-content/uploads/2024/05/Steve-Joe-Warm-2014-1024x683-1.png
END:VEVENT
BEGIN:VEVENT
DTSTART;TZID=America/New_York:20280406T180000
DTEND;TZID=America/New_York:20280406T220000
DTSTAMP:20260419T082212
CREATED:20240511T180440Z
LAST-MODIFIED:20240511T180440Z
UID:10004986-1838656800-1838671200@www.visitwesterville.org
SUMMARY:Live Music at Giammarco's
DESCRIPTION:Live entertainment offered on the Patio or in the Grotto on select nights.  Please see Entertainment Calendar for scheduled dates.  Please make note when making reservation if it’s for the entertainment.
URL:https://www.visitwesterville.org/event/live-music-at-giammarcos/2028-04-06/
LOCATION:Giammarco’s Italian Restaurant\, 6030 Chandler Ct.\, Westerville\, OH\, 43082\, United States
CATEGORIES:Live Music & Performances
ATTACH;FMTTYPE=image/png:https://www.visitwesterville.org/wp-content/uploads/2024/05/Steve-Joe-Warm-2014-1024x683-1.png
END:VEVENT
BEGIN:VEVENT
DTSTART;TZID=America/New_York:20280407T180000
DTEND;TZID=America/New_York:20280407T220000
DTSTAMP:20260419T082212
CREATED:20240511T180440Z
LAST-MODIFIED:20240511T180440Z
UID:10004987-1838743200-1838757600@www.visitwesterville.org
SUMMARY:Live Music at Giammarco's
DESCRIPTION:Live entertainment offered on the Patio or in the Grotto on select nights.  Please see Entertainment Calendar for scheduled dates.  Please make note when making reservation if it’s for the entertainment.
URL:https://www.visitwesterville.org/event/live-music-at-giammarcos/2028-04-07/
LOCATION:Giammarco’s Italian Restaurant\, 6030 Chandler Ct.\, Westerville\, OH\, 43082\, United States
CATEGORIES:Live Music & Performances
ATTACH;FMTTYPE=image/png:https://www.visitwesterville.org/wp-content/uploads/2024/05/Steve-Joe-Warm-2014-1024x683-1.png
END:VEVENT
END:VCALENDAR