BEGIN:VCALENDAR
VERSION:2.0
PRODID:-//Visit Westerville - ECPv6.15.20//NONSGML v1.0//EN
CALSCALE:GREGORIAN
METHOD:PUBLISH
X-WR-CALNAME:Visit Westerville
X-ORIGINAL-URL:https://www.visitwesterville.org
X-WR-CALDESC:Events for Visit Westerville
REFRESH-INTERVAL;VALUE=DURATION:PT1H
X-Robots-Tag:noindex
X-PUBLISHED-TTL:PT1H
BEGIN:VTIMEZONE
TZID:America/New_York
BEGIN:DAYLIGHT
TZOFFSETFROM:-0500
TZOFFSETTO:-0400
TZNAME:EDT
DTSTART:20230312T070000
END:DAYLIGHT
BEGIN:STANDARD
TZOFFSETFROM:-0400
TZOFFSETTO:-0500
TZNAME:EST
DTSTART:20231105T060000
END:STANDARD
BEGIN:DAYLIGHT
TZOFFSETFROM:-0500
TZOFFSETTO:-0400
TZNAME:EDT
DTSTART:20240310T070000
END:DAYLIGHT
BEGIN:STANDARD
TZOFFSETFROM:-0400
TZOFFSETTO:-0500
TZNAME:EST
DTSTART:20241103T060000
END:STANDARD
BEGIN:DAYLIGHT
TZOFFSETFROM:-0500
TZOFFSETTO:-0400
TZNAME:EDT
DTSTART:20250309T070000
END:DAYLIGHT
BEGIN:STANDARD
TZOFFSETFROM:-0400
TZOFFSETTO:-0500
TZNAME:EST
DTSTART:20251102T060000
END:STANDARD
END:VTIMEZONE
BEGIN:VEVENT
DTSTART;TZID=America/New_York:20241228T190000
DTEND;TZID=America/New_York:20241228T210000
DTSTAMP:20260420T021818
CREATED:20240206T173841Z
LAST-MODIFIED:20241213T130919Z
UID:10006593-1735412400-1735419600@www.visitwesterville.org
SUMMARY:Live Music at The Two-One
DESCRIPTION:Head out to The Two-One Restaurant and Bar inside the Renaissance Westerville Columbus-Polaris for live music Friday and Saturday nights.
URL:https://www.visitwesterville.org/event/live-music-at-the-two-one-2/2024-12-28/
LOCATION:The Two-One Restaurant\, 409 Altair Parkway\, Westerville\, OH\, 43082\, United States
CATEGORIES:Live Music & Performances
ATTACH;FMTTYPE=image/png:https://www.visitwesterville.org/wp-content/uploads/2022/11/The-Two-One-Activities-e1668111941620.png
END:VEVENT
BEGIN:VEVENT
DTSTART;TZID=America/New_York:20241228T183000
DTEND;TZID=America/New_York:20241228T203000
DTSTAMP:20260420T021818
CREATED:20240511T175722Z
LAST-MODIFIED:20251102T183412Z
UID:10003537-1735410600-1735417800@www.visitwesterville.org
SUMMARY:Create & Sip Classes at Uptown Art and Clay
DESCRIPTION:Grab your friends and purchase tickets for a create and sip class at Uptown Art & Clay. Supplies provided.
URL:https://www.visitwesterville.org/event/create-sip-classes-at-uptown-art-and-clay/2024-12-28/
LOCATION:Uptown Art & Clay\, 13 1/2 E. College Ave.\, Westerville\, OH\, 43081\, United States
CATEGORIES:Crafts & Workshops
ATTACH;FMTTYPE=image/jpeg:https://www.visitwesterville.org/wp-content/uploads/2024/03/Uptown-Art-Clay.jpg
END:VEVENT
BEGIN:VEVENT
DTSTART;TZID=America/New_York:20241228T180000
DTEND;TZID=America/New_York:20241228T220000
DTSTAMP:20260420T021818
CREATED:20240511T180440Z
LAST-MODIFIED:20240511T180440Z
UID:10003791-1735408800-1735423200@www.visitwesterville.org
SUMMARY:Live Music at Giammarco's
DESCRIPTION:Live entertainment offered on the Patio or in the Grotto on select nights.  Please see Entertainment Calendar for scheduled dates.  Please make note when making reservation if it’s for the entertainment.
URL:https://www.visitwesterville.org/event/live-music-at-giammarcos/2024-12-28/
LOCATION:Giammarco’s Italian Restaurant\, 6030 Chandler Ct.\, Westerville\, OH\, 43082\, United States
CATEGORIES:Live Music & Performances
ATTACH;FMTTYPE=image/png:https://www.visitwesterville.org/wp-content/uploads/2024/05/Steve-Joe-Warm-2014-1024x683-1.png
END:VEVENT
BEGIN:VEVENT
DTSTART;TZID=America/New_York:20241227T190000
DTEND;TZID=America/New_York:20241227T210000
DTSTAMP:20260420T021818
CREATED:20240206T173841Z
LAST-MODIFIED:20241213T130919Z
UID:10001385-1735326000-1735333200@www.visitwesterville.org
SUMMARY:Live Music at The Two-One
DESCRIPTION:Head out to The Two-One Restaurant and Bar inside the Renaissance Westerville Columbus-Polaris for live music Friday and Saturday nights.
URL:https://www.visitwesterville.org/event/live-music-at-the-two-one-2/2024-12-27/
LOCATION:The Two-One Restaurant\, 409 Altair Parkway\, Westerville\, OH\, 43082\, United States
CATEGORIES:Live Music & Performances
ATTACH;FMTTYPE=image/png:https://www.visitwesterville.org/wp-content/uploads/2022/11/The-Two-One-Activities-e1668111941620.png
END:VEVENT
BEGIN:VEVENT
DTSTART;TZID=America/New_York:20241227T183000
DTEND;TZID=America/New_York:20241227T203000
DTSTAMP:20260420T021818
CREATED:20240511T175722Z
LAST-MODIFIED:20251102T183412Z
UID:10008103-1735324200-1735331400@www.visitwesterville.org
SUMMARY:Create & Sip Classes at Uptown Art and Clay
DESCRIPTION:Grab your friends and purchase tickets for a create and sip class at Uptown Art & Clay. Supplies provided.
URL:https://www.visitwesterville.org/event/create-sip-classes-at-uptown-art-and-clay/2024-12-27/
LOCATION:Uptown Art & Clay\, 13 1/2 E. College Ave.\, Westerville\, OH\, 43081\, United States
CATEGORIES:Crafts & Workshops
ATTACH;FMTTYPE=image/jpeg:https://www.visitwesterville.org/wp-content/uploads/2024/03/Uptown-Art-Clay.jpg
END:VEVENT
BEGIN:VEVENT
DTSTART;TZID=America/New_York:20241227T180000
DTEND;TZID=America/New_York:20241227T220000
DTSTAMP:20260420T021818
CREATED:20240511T180440Z
LAST-MODIFIED:20240511T180440Z
UID:10003790-1735322400-1735336800@www.visitwesterville.org
SUMMARY:Live Music at Giammarco's
DESCRIPTION:Live entertainment offered on the Patio or in the Grotto on select nights.  Please see Entertainment Calendar for scheduled dates.  Please make note when making reservation if it’s for the entertainment.
URL:https://www.visitwesterville.org/event/live-music-at-giammarcos/2024-12-27/
LOCATION:Giammarco’s Italian Restaurant\, 6030 Chandler Ct.\, Westerville\, OH\, 43082\, United States
CATEGORIES:Live Music & Performances
ATTACH;FMTTYPE=image/png:https://www.visitwesterville.org/wp-content/uploads/2024/05/Steve-Joe-Warm-2014-1024x683-1.png
END:VEVENT
BEGIN:VEVENT
DTSTART;TZID=America/New_York:20241226T183000
DTEND;TZID=America/New_York:20241226T203000
DTSTAMP:20260420T021818
CREATED:20240511T175722Z
LAST-MODIFIED:20251102T183412Z
UID:10008102-1735237800-1735245000@www.visitwesterville.org
SUMMARY:Create & Sip Classes at Uptown Art and Clay
DESCRIPTION:Grab your friends and purchase tickets for a create and sip class at Uptown Art & Clay. Supplies provided.
URL:https://www.visitwesterville.org/event/create-sip-classes-at-uptown-art-and-clay/2024-12-26/
LOCATION:Uptown Art & Clay\, 13 1/2 E. College Ave.\, Westerville\, OH\, 43081\, United States
CATEGORIES:Crafts & Workshops
ATTACH;FMTTYPE=image/jpeg:https://www.visitwesterville.org/wp-content/uploads/2024/03/Uptown-Art-Clay.jpg
END:VEVENT
BEGIN:VEVENT
DTSTART;TZID=America/New_York:20241226T180000
DTEND;TZID=America/New_York:20241226T220000
DTSTAMP:20260420T021818
CREATED:20240511T180440Z
LAST-MODIFIED:20240511T180440Z
UID:10003789-1735236000-1735250400@www.visitwesterville.org
SUMMARY:Live Music at Giammarco's
DESCRIPTION:Live entertainment offered on the Patio or in the Grotto on select nights.  Please see Entertainment Calendar for scheduled dates.  Please make note when making reservation if it’s for the entertainment.
URL:https://www.visitwesterville.org/event/live-music-at-giammarcos/2024-12-26/
LOCATION:Giammarco’s Italian Restaurant\, 6030 Chandler Ct.\, Westerville\, OH\, 43082\, United States
CATEGORIES:Live Music & Performances
ATTACH;FMTTYPE=image/png:https://www.visitwesterville.org/wp-content/uploads/2024/05/Steve-Joe-Warm-2014-1024x683-1.png
END:VEVENT
BEGIN:VEVENT
DTSTART;TZID=America/New_York:20241225T180000
DTEND;TZID=America/New_York:20241225T220000
DTSTAMP:20260420T021818
CREATED:20240511T180440Z
LAST-MODIFIED:20240511T180440Z
UID:10003788-1735149600-1735164000@www.visitwesterville.org
SUMMARY:Live Music at Giammarco's
DESCRIPTION:Live entertainment offered on the Patio or in the Grotto on select nights.  Please see Entertainment Calendar for scheduled dates.  Please make note when making reservation if it’s for the entertainment.
URL:https://www.visitwesterville.org/event/live-music-at-giammarcos/2024-12-25/
LOCATION:Giammarco’s Italian Restaurant\, 6030 Chandler Ct.\, Westerville\, OH\, 43082\, United States
CATEGORIES:Live Music & Performances
ATTACH;FMTTYPE=image/png:https://www.visitwesterville.org/wp-content/uploads/2024/05/Steve-Joe-Warm-2014-1024x683-1.png
END:VEVENT
BEGIN:VEVENT
DTSTART;TZID=America/New_York:20241224T180000
DTEND;TZID=America/New_York:20241224T220000
DTSTAMP:20260420T021818
CREATED:20240511T180440Z
LAST-MODIFIED:20240511T180440Z
UID:10003787-1735063200-1735077600@www.visitwesterville.org
SUMMARY:Live Music at Giammarco's
DESCRIPTION:Live entertainment offered on the Patio or in the Grotto on select nights.  Please see Entertainment Calendar for scheduled dates.  Please make note when making reservation if it’s for the entertainment.
URL:https://www.visitwesterville.org/event/live-music-at-giammarcos/2024-12-24/
LOCATION:Giammarco’s Italian Restaurant\, 6030 Chandler Ct.\, Westerville\, OH\, 43082\, United States
CATEGORIES:Live Music & Performances
ATTACH;FMTTYPE=image/png:https://www.visitwesterville.org/wp-content/uploads/2024/05/Steve-Joe-Warm-2014-1024x683-1.png
END:VEVENT
BEGIN:VEVENT
DTSTART;TZID=America/New_York:20241223T180000
DTEND;TZID=America/New_York:20241223T220000
DTSTAMP:20260420T021818
CREATED:20240511T180440Z
LAST-MODIFIED:20240511T180440Z
UID:10003786-1734976800-1734991200@www.visitwesterville.org
SUMMARY:Live Music at Giammarco's
DESCRIPTION:Live entertainment offered on the Patio or in the Grotto on select nights.  Please see Entertainment Calendar for scheduled dates.  Please make note when making reservation if it’s for the entertainment.
URL:https://www.visitwesterville.org/event/live-music-at-giammarcos/2024-12-23/
LOCATION:Giammarco’s Italian Restaurant\, 6030 Chandler Ct.\, Westerville\, OH\, 43082\, United States
CATEGORIES:Live Music & Performances
ATTACH;FMTTYPE=image/png:https://www.visitwesterville.org/wp-content/uploads/2024/05/Steve-Joe-Warm-2014-1024x683-1.png
END:VEVENT
BEGIN:VEVENT
DTSTART;TZID=America/New_York:20241222T180000
DTEND;TZID=America/New_York:20241222T220000
DTSTAMP:20260420T021818
CREATED:20240511T180440Z
LAST-MODIFIED:20240511T180440Z
UID:10003785-1734890400-1734904800@www.visitwesterville.org
SUMMARY:Live Music at Giammarco's
DESCRIPTION:Live entertainment offered on the Patio or in the Grotto on select nights.  Please see Entertainment Calendar for scheduled dates.  Please make note when making reservation if it’s for the entertainment.
URL:https://www.visitwesterville.org/event/live-music-at-giammarcos/2024-12-22/
LOCATION:Giammarco’s Italian Restaurant\, 6030 Chandler Ct.\, Westerville\, OH\, 43082\, United States
CATEGORIES:Live Music & Performances
ATTACH;FMTTYPE=image/png:https://www.visitwesterville.org/wp-content/uploads/2024/05/Steve-Joe-Warm-2014-1024x683-1.png
END:VEVENT
BEGIN:VEVENT
DTSTART;TZID=America/New_York:20241222T160000
DTEND;TZID=America/New_York:20241222T180000
DTSTAMP:20260420T021818
CREATED:20241204T024952Z
LAST-MODIFIED:20241204T024952Z
UID:10006592-1734883200-1734890400@www.visitwesterville.org
SUMMARY:Holiday Workshop: Candlelit centerpiece table scraps
DESCRIPTION:Join us for a magical evening of candle creations and holiday centerpieces on Sunday\, December 22 from 4pm-6pm. \nYou will be guided by blend candle co on crafting the perfect custom scented 8oz luxury candle! Next\, Westerville Florist will teach us how to create a beautiful centerpiece for your holiday table-scape! Your candle will fit perfectly into your designed centerpiece you create. Also\, your ticket includes complimentary snacks and sips! \nDORA always welcome \nOur luxury candles are made with 100% soy + coconut wax and clean fragrances (free of paraffin\, phthalates\, parabens). \nTicket: $75 Purchase following the link below:
URL:https://www.visitwesterville.org/event/holiday-workshop-candlelit-centerpiece-table-scraps/
LOCATION:Blend Candle Co.\, 16 E. Main St.\, Westerville\, oh\, 43081\, United States
CATEGORIES:Classes,Crafts & Workshops,Holiday
ATTACH;FMTTYPE=image/jpeg:https://www.visitwesterville.org/wp-content/uploads/2024/03/Westerville-Florist_Blooms-Beverages.jpg
END:VEVENT
BEGIN:VEVENT
DTSTART;TZID=America/New_York:20241222T160000
DTEND;TZID=America/New_York:20241222T180000
DTSTAMP:20260420T021818
CREATED:20241127T172325Z
LAST-MODIFIED:20241127T172325Z
UID:10006591-1734883200-1734890400@www.visitwesterville.org
SUMMARY:Holiday Workshop: Candlelit Table-scapes
DESCRIPTION:Join us for a magical evening of candle creations and holiday centerpieces on Sunday\, December 22 from 4pm-6pm. You will be guided by blend candle co on crafting the perfect custom scented 8oz luxury candle! Next\, Westerville Florist will teach us how to create a beautiful centerpiece for your holiday table-scape!
URL:https://www.visitwesterville.org/event/holiday-workshop-candlelit-table-scapes/
LOCATION:Blend Candle Co.\, 16 E. Main St.\, Westerville\, oh\, 43081\, United States
CATEGORIES:Classes,Crafts & Workshops,Holiday
ATTACH;FMTTYPE=image/jpeg:https://www.visitwesterville.org/wp-content/uploads/2024/05/IMG_6345.jpg
END:VEVENT
BEGIN:VEVENT
DTSTART;TZID=America/New_York:20241221T190000
DTEND;TZID=America/New_York:20241221T210000
DTSTAMP:20260420T021818
CREATED:20240206T173841Z
LAST-MODIFIED:20241213T130919Z
UID:10001384-1734807600-1734814800@www.visitwesterville.org
SUMMARY:Live Music at The Two-One
DESCRIPTION:Head out to The Two-One Restaurant and Bar inside the Renaissance Westerville Columbus-Polaris for live music Friday and Saturday nights.
URL:https://www.visitwesterville.org/event/live-music-at-the-two-one-2/2024-12-21/
LOCATION:The Two-One Restaurant\, 409 Altair Parkway\, Westerville\, OH\, 43082\, United States
CATEGORIES:Live Music & Performances
ATTACH;FMTTYPE=image/png:https://www.visitwesterville.org/wp-content/uploads/2022/11/The-Two-One-Activities-e1668111941620.png
END:VEVENT
BEGIN:VEVENT
DTSTART;TZID=America/New_York:20241221T183000
DTEND;TZID=America/New_York:20241221T203000
DTSTAMP:20260420T021818
CREATED:20240511T175722Z
LAST-MODIFIED:20251102T183412Z
UID:10003536-1734805800-1734813000@www.visitwesterville.org
SUMMARY:Create & Sip Classes at Uptown Art and Clay
DESCRIPTION:Grab your friends and purchase tickets for a create and sip class at Uptown Art & Clay. Supplies provided.
URL:https://www.visitwesterville.org/event/create-sip-classes-at-uptown-art-and-clay/2024-12-21/
LOCATION:Uptown Art & Clay\, 13 1/2 E. College Ave.\, Westerville\, OH\, 43081\, United States
CATEGORIES:Crafts & Workshops
ATTACH;FMTTYPE=image/jpeg:https://www.visitwesterville.org/wp-content/uploads/2024/03/Uptown-Art-Clay.jpg
END:VEVENT
BEGIN:VEVENT
DTSTART;TZID=America/New_York:20241221T180000
DTEND;TZID=America/New_York:20241221T220000
DTSTAMP:20260420T021818
CREATED:20240511T180440Z
LAST-MODIFIED:20240511T180440Z
UID:10003784-1734804000-1734818400@www.visitwesterville.org
SUMMARY:Live Music at Giammarco's
DESCRIPTION:Live entertainment offered on the Patio or in the Grotto on select nights.  Please see Entertainment Calendar for scheduled dates.  Please make note when making reservation if it’s for the entertainment.
URL:https://www.visitwesterville.org/event/live-music-at-giammarcos/2024-12-21/
LOCATION:Giammarco’s Italian Restaurant\, 6030 Chandler Ct.\, Westerville\, OH\, 43082\, United States
CATEGORIES:Live Music & Performances
ATTACH;FMTTYPE=image/png:https://www.visitwesterville.org/wp-content/uploads/2024/05/Steve-Joe-Warm-2014-1024x683-1.png
END:VEVENT
BEGIN:VEVENT
DTSTART;TZID=America/New_York:20241221T130000
DTEND;TZID=America/New_York:20241221T150000
DTSTAMP:20260420T021818
CREATED:20241121T185004Z
LAST-MODIFIED:20241121T185004Z
UID:10006588-1734786000-1734793200@www.visitwesterville.org
SUMMARY:Foreverlink Pop Up at Meza
DESCRIPTION:Grab your girlfriends and get a permeant jewelry piece done with Foreverlink! She will be popping up with her beautiful selection of rings\, bracelets\, necklaces! Get your jewelry and grab a DORA drink to enjoy while you hang and shop – and sample select wines!
URL:https://www.visitwesterville.org/event/foreverlink-pop-up-at-meza/
LOCATION:Meza Wine Shop\, 48 N. State St.\, Westerville\, OH\, 43081\, United States
CATEGORIES:Culinary,Holiday,Shopping
ATTACH;FMTTYPE=image/jpeg:https://www.visitwesterville.org/wp-content/uploads/2024/11/61F91FC3-54FC-4543-A474-23A94F10545B.jpeg
END:VEVENT
BEGIN:VEVENT
DTSTART;TZID=America/New_York:20241220T190000
DTEND;TZID=America/New_York:20241220T210000
DTSTAMP:20260420T021818
CREATED:20240206T173841Z
LAST-MODIFIED:20241213T130919Z
UID:10001383-1734721200-1734728400@www.visitwesterville.org
SUMMARY:Live Music at The Two-One
DESCRIPTION:Head out to The Two-One Restaurant and Bar inside the Renaissance Westerville Columbus-Polaris for live music Friday and Saturday nights.
URL:https://www.visitwesterville.org/event/live-music-at-the-two-one-2/2024-12-20/
LOCATION:The Two-One Restaurant\, 409 Altair Parkway\, Westerville\, OH\, 43082\, United States
CATEGORIES:Live Music & Performances
ATTACH;FMTTYPE=image/png:https://www.visitwesterville.org/wp-content/uploads/2022/11/The-Two-One-Activities-e1668111941620.png
END:VEVENT
BEGIN:VEVENT
DTSTART;TZID=America/New_York:20241220T183000
DTEND;TZID=America/New_York:20241220T203000
DTSTAMP:20260420T021818
CREATED:20240511T175722Z
LAST-MODIFIED:20251102T183412Z
UID:10008101-1734719400-1734726600@www.visitwesterville.org
SUMMARY:Create & Sip Classes at Uptown Art and Clay
DESCRIPTION:Grab your friends and purchase tickets for a create and sip class at Uptown Art & Clay. Supplies provided.
URL:https://www.visitwesterville.org/event/create-sip-classes-at-uptown-art-and-clay/2024-12-20/
LOCATION:Uptown Art & Clay\, 13 1/2 E. College Ave.\, Westerville\, OH\, 43081\, United States
CATEGORIES:Crafts & Workshops
ATTACH;FMTTYPE=image/jpeg:https://www.visitwesterville.org/wp-content/uploads/2024/03/Uptown-Art-Clay.jpg
END:VEVENT
BEGIN:VEVENT
DTSTART;TZID=America/New_York:20241220T180000
DTEND;TZID=America/New_York:20241220T220000
DTSTAMP:20260420T021818
CREATED:20240511T180440Z
LAST-MODIFIED:20240511T180440Z
UID:10003783-1734717600-1734732000@www.visitwesterville.org
SUMMARY:Live Music at Giammarco's
DESCRIPTION:Live entertainment offered on the Patio or in the Grotto on select nights.  Please see Entertainment Calendar for scheduled dates.  Please make note when making reservation if it’s for the entertainment.
URL:https://www.visitwesterville.org/event/live-music-at-giammarcos/2024-12-20/
LOCATION:Giammarco’s Italian Restaurant\, 6030 Chandler Ct.\, Westerville\, OH\, 43082\, United States
CATEGORIES:Live Music & Performances
ATTACH;FMTTYPE=image/png:https://www.visitwesterville.org/wp-content/uploads/2024/05/Steve-Joe-Warm-2014-1024x683-1.png
END:VEVENT
BEGIN:VEVENT
DTSTART;TZID=America/New_York:20241219T183000
DTEND;TZID=America/New_York:20241219T203000
DTSTAMP:20260420T021818
CREATED:20240511T175722Z
LAST-MODIFIED:20251102T183412Z
UID:10008100-1734633000-1734640200@www.visitwesterville.org
SUMMARY:Create & Sip Classes at Uptown Art and Clay
DESCRIPTION:Grab your friends and purchase tickets for a create and sip class at Uptown Art & Clay. Supplies provided.
URL:https://www.visitwesterville.org/event/create-sip-classes-at-uptown-art-and-clay/2024-12-19/
LOCATION:Uptown Art & Clay\, 13 1/2 E. College Ave.\, Westerville\, OH\, 43081\, United States
CATEGORIES:Crafts & Workshops
ATTACH;FMTTYPE=image/jpeg:https://www.visitwesterville.org/wp-content/uploads/2024/03/Uptown-Art-Clay.jpg
END:VEVENT
BEGIN:VEVENT
DTSTART;TZID=America/New_York:20241219T180000
DTEND;TZID=America/New_York:20241219T220000
DTSTAMP:20260420T021818
CREATED:20240511T180440Z
LAST-MODIFIED:20240511T180440Z
UID:10003782-1734631200-1734645600@www.visitwesterville.org
SUMMARY:Live Music at Giammarco's
DESCRIPTION:Live entertainment offered on the Patio or in the Grotto on select nights.  Please see Entertainment Calendar for scheduled dates.  Please make note when making reservation if it’s for the entertainment.
URL:https://www.visitwesterville.org/event/live-music-at-giammarcos/2024-12-19/
LOCATION:Giammarco’s Italian Restaurant\, 6030 Chandler Ct.\, Westerville\, OH\, 43082\, United States
CATEGORIES:Live Music & Performances
ATTACH;FMTTYPE=image/png:https://www.visitwesterville.org/wp-content/uploads/2024/05/Steve-Joe-Warm-2014-1024x683-1.png
END:VEVENT
BEGIN:VEVENT
DTSTART;TZID=America/New_York:20241219T180000
DTEND;TZID=America/New_York:20241219T200000
DTSTAMP:20260420T021818
CREATED:20240511T182235Z
LAST-MODIFIED:20240511T182235Z
UID:10005461-1734631200-1734638400@www.visitwesterville.org
SUMMARY:Silent Book Club
DESCRIPTION:What exactly is a Silent Book Club?\nAt SBC\, there is no assigned reading. Simply grab your book/text of choice and join us for a brief social period then sit in companionable silence with your current read. After an hour of quiet reading\, you can stay and socialize more or head out.\nOur meetings take place the first Monday of each month from 6-8pm at Family Room Coffee and Bake Shop\, 545 S. Otterbein Ave\, Westerville\, OH\, 43081.\nSchedule will typically be as follows:\n6-630pm: Arrival/Greeting\n630-730pm: Quiet reading\n730-8pm: Social/Farewell\nFeel free to bring a friend with you to check us out.
URL:https://www.visitwesterville.org/event/silent-book-club-2/2024-12-19/
LOCATION:Family Room Coffee and Bakeshop\, 545 S Otterbein Ave.\, Westerville\, OH\, 43081\, United States
CATEGORIES:Literature
ATTACH;FMTTYPE=image/png:https://www.visitwesterville.org/wp-content/uploads/2023/04/Family-Room-e1691348498880.png
END:VEVENT
BEGIN:VEVENT
DTSTART;TZID=America/New_York:20241218T180000
DTEND;TZID=America/New_York:20241218T220000
DTSTAMP:20260420T021818
CREATED:20240511T180440Z
LAST-MODIFIED:20240511T180440Z
UID:10003781-1734544800-1734559200@www.visitwesterville.org
SUMMARY:Live Music at Giammarco's
DESCRIPTION:Live entertainment offered on the Patio or in the Grotto on select nights.  Please see Entertainment Calendar for scheduled dates.  Please make note when making reservation if it’s for the entertainment.
URL:https://www.visitwesterville.org/event/live-music-at-giammarcos/2024-12-18/
LOCATION:Giammarco’s Italian Restaurant\, 6030 Chandler Ct.\, Westerville\, OH\, 43082\, United States
CATEGORIES:Live Music & Performances
ATTACH;FMTTYPE=image/png:https://www.visitwesterville.org/wp-content/uploads/2024/05/Steve-Joe-Warm-2014-1024x683-1.png
END:VEVENT
BEGIN:VEVENT
DTSTART;TZID=America/New_York:20241217T190000
DTEND;TZID=America/New_York:20241217T210000
DTSTAMP:20260420T021818
CREATED:20240511T181352Z
LAST-MODIFIED:20240511T181352Z
UID:10005409-1734462000-1734469200@www.visitwesterville.org
SUMMARY:Sketch Nights at Daylight Artist Collective
DESCRIPTION:Join us for a fun and relaxed sketch night with local creatives. Bring your supplies\, we will provide the subject!
URL:https://www.visitwesterville.org/event/sketch-nights-at-daylight-artist-collective/2024-12-17/
LOCATION:Daylight Artist Collective\, 9 E. College Ave.\, Westerville\, OH\, 43081\, United States
ATTACH;FMTTYPE=image/jpeg:https://www.visitwesterville.org/wp-content/uploads/2022/11/Daylight-Artists-Collective.jpg
END:VEVENT
BEGIN:VEVENT
DTSTART;TZID=America/New_York:20241217T180000
DTEND;TZID=America/New_York:20241217T220000
DTSTAMP:20260420T021818
CREATED:20240511T180440Z
LAST-MODIFIED:20240511T180440Z
UID:10003780-1734458400-1734472800@www.visitwesterville.org
SUMMARY:Live Music at Giammarco's
DESCRIPTION:Live entertainment offered on the Patio or in the Grotto on select nights.  Please see Entertainment Calendar for scheduled dates.  Please make note when making reservation if it’s for the entertainment.
URL:https://www.visitwesterville.org/event/live-music-at-giammarcos/2024-12-17/
LOCATION:Giammarco’s Italian Restaurant\, 6030 Chandler Ct.\, Westerville\, OH\, 43082\, United States
CATEGORIES:Live Music & Performances
ATTACH;FMTTYPE=image/png:https://www.visitwesterville.org/wp-content/uploads/2024/05/Steve-Joe-Warm-2014-1024x683-1.png
END:VEVENT
BEGIN:VEVENT
DTSTART;TZID=America/New_York:20241216T180000
DTEND;TZID=America/New_York:20241216T220000
DTSTAMP:20260420T021818
CREATED:20240511T180440Z
LAST-MODIFIED:20240511T180440Z
UID:10003779-1734372000-1734386400@www.visitwesterville.org
SUMMARY:Live Music at Giammarco's
DESCRIPTION:Live entertainment offered on the Patio or in the Grotto on select nights.  Please see Entertainment Calendar for scheduled dates.  Please make note when making reservation if it’s for the entertainment.
URL:https://www.visitwesterville.org/event/live-music-at-giammarcos/2024-12-16/
LOCATION:Giammarco’s Italian Restaurant\, 6030 Chandler Ct.\, Westerville\, OH\, 43082\, United States
CATEGORIES:Live Music & Performances
ATTACH;FMTTYPE=image/png:https://www.visitwesterville.org/wp-content/uploads/2024/05/Steve-Joe-Warm-2014-1024x683-1.png
END:VEVENT
BEGIN:VEVENT
DTSTART;TZID=America/New_York:20241215T180000
DTEND;TZID=America/New_York:20241215T220000
DTSTAMP:20260420T021818
CREATED:20240511T180440Z
LAST-MODIFIED:20240511T180440Z
UID:10003778-1734285600-1734300000@www.visitwesterville.org
SUMMARY:Live Music at Giammarco's
DESCRIPTION:Live entertainment offered on the Patio or in the Grotto on select nights.  Please see Entertainment Calendar for scheduled dates.  Please make note when making reservation if it’s for the entertainment.
URL:https://www.visitwesterville.org/event/live-music-at-giammarcos/2024-12-15/
LOCATION:Giammarco’s Italian Restaurant\, 6030 Chandler Ct.\, Westerville\, OH\, 43082\, United States
CATEGORIES:Live Music & Performances
ATTACH;FMTTYPE=image/png:https://www.visitwesterville.org/wp-content/uploads/2024/05/Steve-Joe-Warm-2014-1024x683-1.png
END:VEVENT
BEGIN:VEVENT
DTSTART;TZID=America/New_York:20241215T160000
DTEND;TZID=America/New_York:20241215T173000
DTSTAMP:20260420T021818
CREATED:20241111T185909Z
LAST-MODIFIED:20241111T185909Z
UID:10006579-1734278400-1734283800@www.visitwesterville.org
SUMMARY:In the Christmas Mood
DESCRIPTION:Enjoy a free\, family friendly night of fun and classic holiday music in brass & percussion by the Scioto Valley Brass and Percussion Company led by The Ohio State University’s band director\, Dr. Chris Hoch.
URL:https://www.visitwesterville.org/event/in-the-christmas-mood/
LOCATION:Grace Evangelical Luthern Church\, 100 E. Schrock Rd.\, Westerville\, OH\, 43081\, United States
CATEGORIES:Holiday,Live Music & Performances,Seasonal
ATTACH;FMTTYPE=image/jpeg:https://www.visitwesterville.org/wp-content/uploads/2024/11/christmas-in-the-mood.jpg
END:VEVENT
END:VCALENDAR