BEGIN:VCALENDAR
VERSION:2.0
PRODID:-//Visit Westerville - ECPv6.15.20//NONSGML v1.0//EN
CALSCALE:GREGORIAN
METHOD:PUBLISH
X-WR-CALNAME:Visit Westerville
X-ORIGINAL-URL:https://www.visitwesterville.org
X-WR-CALDESC:Events for Visit Westerville
REFRESH-INTERVAL;VALUE=DURATION:PT1H
X-Robots-Tag:noindex
X-PUBLISHED-TTL:PT1H
BEGIN:VTIMEZONE
TZID:America/New_York
BEGIN:DAYLIGHT
TZOFFSETFROM:-0500
TZOFFSETTO:-0400
TZNAME:EDT
DTSTART:20250309T070000
END:DAYLIGHT
BEGIN:STANDARD
TZOFFSETFROM:-0400
TZOFFSETTO:-0500
TZNAME:EST
DTSTART:20251102T060000
END:STANDARD
BEGIN:DAYLIGHT
TZOFFSETFROM:-0500
TZOFFSETTO:-0400
TZNAME:EDT
DTSTART:20260308T070000
END:DAYLIGHT
BEGIN:STANDARD
TZOFFSETFROM:-0400
TZOFFSETTO:-0500
TZNAME:EST
DTSTART:20261101T060000
END:STANDARD
BEGIN:DAYLIGHT
TZOFFSETFROM:-0500
TZOFFSETTO:-0400
TZNAME:EDT
DTSTART:20270314T070000
END:DAYLIGHT
BEGIN:STANDARD
TZOFFSETFROM:-0400
TZOFFSETTO:-0500
TZNAME:EST
DTSTART:20271107T060000
END:STANDARD
END:VTIMEZONE
BEGIN:VEVENT
DTSTART;TZID=America/New_York:20260516T120000
DTEND;TZID=America/New_York:20260516T170000
DTSTAMP:20260421T042835
CREATED:20260306T111254Z
LAST-MODIFIED:20260306T111254Z
UID:10008938-1778932800-1778950800@www.visitwesterville.org
SUMMARY:Blooms & Bubbles Bouquet Pop-Up Bar
DESCRIPTION:Blooms & Bubbles Bouquet Pop-Up Bar \nCreate your own fresh bouquet during this monthly pop-up with Sassafraz Flowers. Guests receive 10 stems\, complimentary greenery\, themed wrapping\, and a mimosa while designing their arrangement. Stop in for bouquet-making or pair the experience with candle-making during your visit. \nDates:March 21–22 | April 18–19 | May 16 | 12–5 PM$25 per guest. Reservations available.
URL:https://www.visitwesterville.org/event/blooms-bubbles-bouquet-pop-up-bar-westerville/2026-05-16/
LOCATION:Blend Candle Co.\, 16 E. Main St.\, Westerville\, oh\, 43081\, United States
ATTACH;FMTTYPE=image/png:https://www.visitwesterville.org/wp-content/uploads/2024/06/Blend-Logo.png
END:VEVENT
END:VCALENDAR