BEGIN:VCALENDAR
VERSION:2.0
PRODID:-//Visit Westerville - ECPv6.15.20//NONSGML v1.0//EN
CALSCALE:GREGORIAN
METHOD:PUBLISH
X-WR-CALNAME:Visit Westerville
X-ORIGINAL-URL:https://www.visitwesterville.org
X-WR-CALDESC:Events for Visit Westerville
REFRESH-INTERVAL;VALUE=DURATION:PT1H
X-Robots-Tag:noindex
X-PUBLISHED-TTL:PT1H
BEGIN:VTIMEZONE
TZID:America/New_York
BEGIN:DAYLIGHT
TZOFFSETFROM:-0500
TZOFFSETTO:-0400
TZNAME:EDT
DTSTART:20250309T070000
END:DAYLIGHT
BEGIN:STANDARD
TZOFFSETFROM:-0400
TZOFFSETTO:-0500
TZNAME:EST
DTSTART:20251102T060000
END:STANDARD
BEGIN:DAYLIGHT
TZOFFSETFROM:-0500
TZOFFSETTO:-0400
TZNAME:EDT
DTSTART:20260308T070000
END:DAYLIGHT
BEGIN:STANDARD
TZOFFSETFROM:-0400
TZOFFSETTO:-0500
TZNAME:EST
DTSTART:20261101T060000
END:STANDARD
BEGIN:DAYLIGHT
TZOFFSETFROM:-0500
TZOFFSETTO:-0400
TZNAME:EDT
DTSTART:20270314T070000
END:DAYLIGHT
BEGIN:STANDARD
TZOFFSETFROM:-0400
TZOFFSETTO:-0500
TZNAME:EST
DTSTART:20271107T060000
END:STANDARD
END:VTIMEZONE
BEGIN:VEVENT
DTSTART;TZID=America/New_York:20260522T180000
DTEND;TZID=America/New_York:20260522T210000
DTSTAMP:20260421T124301
CREATED:20260306T153135Z
LAST-MODIFIED:20260306T153135Z
UID:10009734-1779472800-1779483600@www.visitwesterville.org
SUMMARY:Fourth Friday Festivals in Uptown Westerville
DESCRIPTION:Celebrate summer and fall in the heart of the city during the Fourth Friday Festivals in Uptown Westerville. Held on the fourth Friday evening of each month from May through October\, this popular street festival transforms historic Uptown into a lively community gathering filled with live music\, street performers\, food trucks\, and local vendors. \nVisitors can explore dozens of pop-up vendor booths\, enjoy entertainment stages\, and browse Uptown’s shops and restaurants while the streets come alive with music and family-friendly activities. The event draws thousands of guests each month and is one of Westerville’s signature community celebrations. \n2026 Fourth Friday Festival Dates:May 22 – Art HopJune 26 – America’s 250th BirthdayJuly 24 – Summer FunAugust 28 – School SpiritSeptember 25 – Autumn FestivalOctober 23 – Midnight Madness \nAll festivals take place 6:00–9:00 PM in Historic Uptown Westerville.
URL:https://www.visitwesterville.org/event/fourth-friday-festival-westerville/2026-05-22/
LOCATION:Uptown Westerville\, Main St.\, Westerville\, OH\, 43081\, United States
ATTACH;FMTTYPE=image/jpeg:https://www.visitwesterville.org/wp-content/uploads/2023/01/4TH-FRIDAY-1.jpeg
END:VEVENT
BEGIN:VEVENT
DTSTART;TZID=America/New_York:20260626T180000
DTEND;TZID=America/New_York:20260626T210000
DTSTAMP:20260421T124301
CREATED:20260418T164746Z
LAST-MODIFIED:20260418T164746Z
UID:10009735-1782496800-1782507600@www.visitwesterville.org
SUMMARY:Fourth Friday Festivals in Uptown Westerville
DESCRIPTION:Celebrate summer and fall in the heart of the city during the Fourth Friday Festivals in Uptown Westerville. Held on the fourth Friday evening of each month from May through October\, this popular street festival transforms historic Uptown into a lively community gathering filled with live music\, street performers\, food trucks\, and local vendors. \nVisitors can explore dozens of pop-up vendor booths\, enjoy entertainment stages\, and browse Uptown’s shops and restaurants while the streets come alive with music and family-friendly activities. The event draws thousands of guests each month and is one of Westerville’s signature community celebrations. \n2026 Fourth Friday Festival Dates:May 22 – Art HopJune 26 – America’s 250th BirthdayJuly 24 – Summer FunAugust 28 – School SpiritSeptember 25 – Autumn FestivalOctober 23 – Midnight Madness \nAll festivals take place 6:00–9:00 PM in Historic Uptown Westerville.
URL:https://www.visitwesterville.org/event/fourth-friday-festival-westerville-2/
LOCATION:Uptown Westerville\, Main St.\, Westerville\, OH\, 43081\, United States
CATEGORIES:America 250
ATTACH;FMTTYPE=image/jpeg:https://www.visitwesterville.org/wp-content/uploads/2023/01/4TH-FRIDAY-1.jpeg
END:VEVENT
BEGIN:VEVENT
DTSTART;TZID=America/New_York:20260724T180000
DTEND;TZID=America/New_York:20260724T210000
DTSTAMP:20260421T124301
CREATED:20260306T153135Z
LAST-MODIFIED:20260306T153135Z
UID:10009736-1784916000-1784926800@www.visitwesterville.org
SUMMARY:Fourth Friday Festivals in Uptown Westerville
DESCRIPTION:Celebrate summer and fall in the heart of the city during the Fourth Friday Festivals in Uptown Westerville. Held on the fourth Friday evening of each month from May through October\, this popular street festival transforms historic Uptown into a lively community gathering filled with live music\, street performers\, food trucks\, and local vendors. \nVisitors can explore dozens of pop-up vendor booths\, enjoy entertainment stages\, and browse Uptown’s shops and restaurants while the streets come alive with music and family-friendly activities. The event draws thousands of guests each month and is one of Westerville’s signature community celebrations. \n2026 Fourth Friday Festival Dates:May 22 – Art HopJune 26 – America’s 250th BirthdayJuly 24 – Summer FunAugust 28 – School SpiritSeptember 25 – Autumn FestivalOctober 23 – Midnight Madness \nAll festivals take place 6:00–9:00 PM in Historic Uptown Westerville.
URL:https://www.visitwesterville.org/event/fourth-friday-festival-westerville/2026-07-24/
LOCATION:Uptown Westerville\, Main St.\, Westerville\, OH\, 43081\, United States
ATTACH;FMTTYPE=image/jpeg:https://www.visitwesterville.org/wp-content/uploads/2023/01/4TH-FRIDAY-1.jpeg
END:VEVENT
BEGIN:VEVENT
DTSTART;TZID=America/New_York:20260828T180000
DTEND;TZID=America/New_York:20260828T210000
DTSTAMP:20260421T124301
CREATED:20260306T153135Z
LAST-MODIFIED:20260306T153135Z
UID:10009737-1787940000-1787950800@www.visitwesterville.org
SUMMARY:Fourth Friday Festivals in Uptown Westerville
DESCRIPTION:Celebrate summer and fall in the heart of the city during the Fourth Friday Festivals in Uptown Westerville. Held on the fourth Friday evening of each month from May through October\, this popular street festival transforms historic Uptown into a lively community gathering filled with live music\, street performers\, food trucks\, and local vendors. \nVisitors can explore dozens of pop-up vendor booths\, enjoy entertainment stages\, and browse Uptown’s shops and restaurants while the streets come alive with music and family-friendly activities. The event draws thousands of guests each month and is one of Westerville’s signature community celebrations. \n2026 Fourth Friday Festival Dates:May 22 – Art HopJune 26 – America’s 250th BirthdayJuly 24 – Summer FunAugust 28 – School SpiritSeptember 25 – Autumn FestivalOctober 23 – Midnight Madness \nAll festivals take place 6:00–9:00 PM in Historic Uptown Westerville.
URL:https://www.visitwesterville.org/event/fourth-friday-festival-westerville/2026-08-28/
LOCATION:Uptown Westerville\, Main St.\, Westerville\, OH\, 43081\, United States
ATTACH;FMTTYPE=image/jpeg:https://www.visitwesterville.org/wp-content/uploads/2023/01/4TH-FRIDAY-1.jpeg
END:VEVENT
BEGIN:VEVENT
DTSTART;TZID=America/New_York:20260925T180000
DTEND;TZID=America/New_York:20260925T210000
DTSTAMP:20260421T124301
CREATED:20260306T153135Z
LAST-MODIFIED:20260306T153135Z
UID:10009738-1790359200-1790370000@www.visitwesterville.org
SUMMARY:Fourth Friday Festivals in Uptown Westerville
DESCRIPTION:Celebrate summer and fall in the heart of the city during the Fourth Friday Festivals in Uptown Westerville. Held on the fourth Friday evening of each month from May through October\, this popular street festival transforms historic Uptown into a lively community gathering filled with live music\, street performers\, food trucks\, and local vendors. \nVisitors can explore dozens of pop-up vendor booths\, enjoy entertainment stages\, and browse Uptown’s shops and restaurants while the streets come alive with music and family-friendly activities. The event draws thousands of guests each month and is one of Westerville’s signature community celebrations. \n2026 Fourth Friday Festival Dates:May 22 – Art HopJune 26 – America’s 250th BirthdayJuly 24 – Summer FunAugust 28 – School SpiritSeptember 25 – Autumn FestivalOctober 23 – Midnight Madness \nAll festivals take place 6:00–9:00 PM in Historic Uptown Westerville.
URL:https://www.visitwesterville.org/event/fourth-friday-festival-westerville/2026-09-25/
LOCATION:Uptown Westerville\, Main St.\, Westerville\, OH\, 43081\, United States
ATTACH;FMTTYPE=image/jpeg:https://www.visitwesterville.org/wp-content/uploads/2023/01/4TH-FRIDAY-1.jpeg
END:VEVENT
BEGIN:VEVENT
DTSTART;TZID=America/New_York:20261023T180000
DTEND;TZID=America/New_York:20261023T210000
DTSTAMP:20260421T124301
CREATED:20260306T153135Z
LAST-MODIFIED:20260306T153135Z
UID:10009739-1792778400-1792789200@www.visitwesterville.org
SUMMARY:Fourth Friday Festivals in Uptown Westerville
DESCRIPTION:Celebrate summer and fall in the heart of the city during the Fourth Friday Festivals in Uptown Westerville. Held on the fourth Friday evening of each month from May through October\, this popular street festival transforms historic Uptown into a lively community gathering filled with live music\, street performers\, food trucks\, and local vendors. \nVisitors can explore dozens of pop-up vendor booths\, enjoy entertainment stages\, and browse Uptown’s shops and restaurants while the streets come alive with music and family-friendly activities. The event draws thousands of guests each month and is one of Westerville’s signature community celebrations. \n2026 Fourth Friday Festival Dates:May 22 – Art HopJune 26 – America’s 250th BirthdayJuly 24 – Summer FunAugust 28 – School SpiritSeptember 25 – Autumn FestivalOctober 23 – Midnight Madness \nAll festivals take place 6:00–9:00 PM in Historic Uptown Westerville.
URL:https://www.visitwesterville.org/event/fourth-friday-festival-westerville/2026-10-23/
LOCATION:Uptown Westerville\, Main St.\, Westerville\, OH\, 43081\, United States
ATTACH;FMTTYPE=image/jpeg:https://www.visitwesterville.org/wp-content/uploads/2023/01/4TH-FRIDAY-1.jpeg
END:VEVENT
END:VCALENDAR