BEGIN:VCALENDAR
VERSION:2.0
PRODID:-//Visit Westerville - ECPv6.15.20//NONSGML v1.0//EN
CALSCALE:GREGORIAN
METHOD:PUBLISH
X-WR-CALNAME:Visit Westerville
X-ORIGINAL-URL:https://www.visitwesterville.org
X-WR-CALDESC:Events for Visit Westerville
REFRESH-INTERVAL;VALUE=DURATION:PT1H
X-Robots-Tag:noindex
X-PUBLISHED-TTL:PT1H
BEGIN:VTIMEZONE
TZID:America/New_York
BEGIN:DAYLIGHT
TZOFFSETFROM:-0500
TZOFFSETTO:-0400
TZNAME:EDT
DTSTART:20250309T070000
END:DAYLIGHT
BEGIN:STANDARD
TZOFFSETFROM:-0400
TZOFFSETTO:-0500
TZNAME:EST
DTSTART:20251102T060000
END:STANDARD
BEGIN:DAYLIGHT
TZOFFSETFROM:-0500
TZOFFSETTO:-0400
TZNAME:EDT
DTSTART:20260308T070000
END:DAYLIGHT
BEGIN:STANDARD
TZOFFSETFROM:-0400
TZOFFSETTO:-0500
TZNAME:EST
DTSTART:20261101T060000
END:STANDARD
BEGIN:DAYLIGHT
TZOFFSETFROM:-0500
TZOFFSETTO:-0400
TZNAME:EDT
DTSTART:20270314T070000
END:DAYLIGHT
BEGIN:STANDARD
TZOFFSETFROM:-0400
TZOFFSETTO:-0500
TZNAME:EST
DTSTART:20271107T060000
END:STANDARD
END:VTIMEZONE
BEGIN:VEVENT
DTSTART;TZID=America/New_York:20260418T090000
DTEND;TZID=America/New_York:20260418T120000
DTSTAMP:20260422T143125
CREATED:20260306T161538Z
LAST-MODIFIED:20260306T161538Z
UID:10009749-1776502800-1776513600@www.visitwesterville.org
SUMMARY:Hustle for Habitat 5K
DESCRIPTION:Lace up your running shoes and join the community for the Hustle for Habitat 5K at Hoff Woods Park in Westerville. This family-friendly run and walk supports the Westerville Habitat Partnership\, helping raise funds for local efforts that support Habitat for Humanity homebuilding projects in the region. \nParticipants of all ages and experience levels are welcome to run\, jog\, or walk the 5K course while enjoying the scenic surroundings of Hoff Woods Park. The event brings together community members\, volunteers\, and supporters for a morning focused on fitness\, community\, and building homes and hope. \nDate: Saturday\, April 18\, 2026Start Time: 9:00 AMLocation: Hoff Woods Park\, Westerville \nWhether you’re racing for time or walking with friends and family\, the Hustle for Habitat 5K is a meaningful way to support affordable housing initiatives in the Westerville community.
URL:https://www.visitwesterville.org/event/hustle-for-habitat-5k-westerville/
LOCATION:Hoff Woods Park\, 556 McCorkle Blvd.\, Westerville\, OH\, 43082\, United States
ATTACH;FMTTYPE=image/png:https://www.visitwesterville.org/wp-content/uploads/2026/03/genericImage-websiteLogo-244631-1735649075.8152-0.bNC-CZ.png
END:VEVENT
END:VCALENDAR