BEGIN:VCALENDAR
VERSION:2.0
PRODID:-//Visit Westerville - ECPv6.15.20//NONSGML v1.0//EN
CALSCALE:GREGORIAN
METHOD:PUBLISH
X-WR-CALNAME:Visit Westerville
X-ORIGINAL-URL:https://www.visitwesterville.org
X-WR-CALDESC:Events for Visit Westerville
REFRESH-INTERVAL;VALUE=DURATION:PT1H
X-Robots-Tag:noindex
X-PUBLISHED-TTL:PT1H
BEGIN:VTIMEZONE
TZID:America/New_York
BEGIN:DAYLIGHT
TZOFFSETFROM:-0500
TZOFFSETTO:-0400
TZNAME:EDT
DTSTART:20230312T070000
END:DAYLIGHT
BEGIN:STANDARD
TZOFFSETFROM:-0400
TZOFFSETTO:-0500
TZNAME:EST
DTSTART:20231105T060000
END:STANDARD
BEGIN:DAYLIGHT
TZOFFSETFROM:-0500
TZOFFSETTO:-0400
TZNAME:EDT
DTSTART:20240310T070000
END:DAYLIGHT
BEGIN:STANDARD
TZOFFSETFROM:-0400
TZOFFSETTO:-0500
TZNAME:EST
DTSTART:20241103T060000
END:STANDARD
BEGIN:DAYLIGHT
TZOFFSETFROM:-0500
TZOFFSETTO:-0400
TZNAME:EDT
DTSTART:20250309T070000
END:DAYLIGHT
BEGIN:STANDARD
TZOFFSETFROM:-0400
TZOFFSETTO:-0500
TZNAME:EST
DTSTART:20251102T060000
END:STANDARD
END:VTIMEZONE
BEGIN:VEVENT
DTSTART;TZID=America/New_York:20240901T103000
DTEND;TZID=America/New_York:20240901T160000
DTSTAMP:20260422T053149
CREATED:20240916T140940Z
LAST-MODIFIED:20240916T140940Z
UID:10006347-1725186600-1725206400@www.visitwesterville.org
SUMMARY:Only Abstract Will Do
DESCRIPTION:This exhibition features abstract art (1953 – 2023) from Otterbein’s permanent collection. The scope includes Otterbein students and faculty\, as well as other local and global artists. The selections explore how abstraction can function as a unifying language of human experience\, ideas\, and emotions. Immerse yourself in the colors\, forms\, and atmosphere that only abstract art can engender.
URL:https://www.visitwesterville.org/event/only-abstract-will-do/2024-09-01/
LOCATION:Fisher Gallery at Otterbein University\, 27 S. Grove St.\, Westerville\, OH\, 43081\, United States
CATEGORIES:Galleries & Exhibits
ATTACH;FMTTYPE=image/png:https://www.visitwesterville.org/wp-content/uploads/2024/09/Abstracts.png
END:VEVENT
BEGIN:VEVENT
DTSTART;TZID=America/New_York:20240831T103000
DTEND;TZID=America/New_York:20240831T160000
DTSTAMP:20260422T053149
CREATED:20240916T140940Z
LAST-MODIFIED:20240916T140940Z
UID:10006346-1725100200-1725120000@www.visitwesterville.org
SUMMARY:Only Abstract Will Do
DESCRIPTION:This exhibition features abstract art (1953 – 2023) from Otterbein’s permanent collection. The scope includes Otterbein students and faculty\, as well as other local and global artists. The selections explore how abstraction can function as a unifying language of human experience\, ideas\, and emotions. Immerse yourself in the colors\, forms\, and atmosphere that only abstract art can engender.
URL:https://www.visitwesterville.org/event/only-abstract-will-do/2024-08-31/
LOCATION:Fisher Gallery at Otterbein University\, 27 S. Grove St.\, Westerville\, OH\, 43081\, United States
CATEGORIES:Galleries & Exhibits
ATTACH;FMTTYPE=image/png:https://www.visitwesterville.org/wp-content/uploads/2024/09/Abstracts.png
END:VEVENT
BEGIN:VEVENT
DTSTART;TZID=America/New_York:20240830T103000
DTEND;TZID=America/New_York:20240830T160000
DTSTAMP:20260422T053149
CREATED:20240916T140940Z
LAST-MODIFIED:20240916T140940Z
UID:10006345-1725013800-1725033600@www.visitwesterville.org
SUMMARY:Only Abstract Will Do
DESCRIPTION:This exhibition features abstract art (1953 – 2023) from Otterbein’s permanent collection. The scope includes Otterbein students and faculty\, as well as other local and global artists. The selections explore how abstraction can function as a unifying language of human experience\, ideas\, and emotions. Immerse yourself in the colors\, forms\, and atmosphere that only abstract art can engender.
URL:https://www.visitwesterville.org/event/only-abstract-will-do/2024-08-30/
LOCATION:Fisher Gallery at Otterbein University\, 27 S. Grove St.\, Westerville\, OH\, 43081\, United States
CATEGORIES:Galleries & Exhibits
ATTACH;FMTTYPE=image/png:https://www.visitwesterville.org/wp-content/uploads/2024/09/Abstracts.png
END:VEVENT
BEGIN:VEVENT
DTSTART;TZID=America/New_York:20240829T103000
DTEND;TZID=America/New_York:20240829T160000
DTSTAMP:20260422T053149
CREATED:20240916T140940Z
LAST-MODIFIED:20240916T140940Z
UID:10006344-1724927400-1724947200@www.visitwesterville.org
SUMMARY:Only Abstract Will Do
DESCRIPTION:This exhibition features abstract art (1953 – 2023) from Otterbein’s permanent collection. The scope includes Otterbein students and faculty\, as well as other local and global artists. The selections explore how abstraction can function as a unifying language of human experience\, ideas\, and emotions. Immerse yourself in the colors\, forms\, and atmosphere that only abstract art can engender.
URL:https://www.visitwesterville.org/event/only-abstract-will-do/2024-08-29/
LOCATION:Fisher Gallery at Otterbein University\, 27 S. Grove St.\, Westerville\, OH\, 43081\, United States
CATEGORIES:Galleries & Exhibits
ATTACH;FMTTYPE=image/png:https://www.visitwesterville.org/wp-content/uploads/2024/09/Abstracts.png
END:VEVENT
BEGIN:VEVENT
DTSTART;TZID=America/New_York:20240828T103000
DTEND;TZID=America/New_York:20240828T160000
DTSTAMP:20260422T053149
CREATED:20240916T140940Z
LAST-MODIFIED:20240916T140940Z
UID:10006343-1724841000-1724860800@www.visitwesterville.org
SUMMARY:Only Abstract Will Do
DESCRIPTION:This exhibition features abstract art (1953 – 2023) from Otterbein’s permanent collection. The scope includes Otterbein students and faculty\, as well as other local and global artists. The selections explore how abstraction can function as a unifying language of human experience\, ideas\, and emotions. Immerse yourself in the colors\, forms\, and atmosphere that only abstract art can engender.
URL:https://www.visitwesterville.org/event/only-abstract-will-do/2024-08-28/
LOCATION:Fisher Gallery at Otterbein University\, 27 S. Grove St.\, Westerville\, OH\, 43081\, United States
CATEGORIES:Galleries & Exhibits
ATTACH;FMTTYPE=image/png:https://www.visitwesterville.org/wp-content/uploads/2024/09/Abstracts.png
END:VEVENT
BEGIN:VEVENT
DTSTART;TZID=America/New_York:20240827T103000
DTEND;TZID=America/New_York:20240827T160000
DTSTAMP:20260422T053149
CREATED:20240916T140940Z
LAST-MODIFIED:20240916T140940Z
UID:10006342-1724754600-1724774400@www.visitwesterville.org
SUMMARY:Only Abstract Will Do
DESCRIPTION:This exhibition features abstract art (1953 – 2023) from Otterbein’s permanent collection. The scope includes Otterbein students and faculty\, as well as other local and global artists. The selections explore how abstraction can function as a unifying language of human experience\, ideas\, and emotions. Immerse yourself in the colors\, forms\, and atmosphere that only abstract art can engender.
URL:https://www.visitwesterville.org/event/only-abstract-will-do/2024-08-27/
LOCATION:Fisher Gallery at Otterbein University\, 27 S. Grove St.\, Westerville\, OH\, 43081\, United States
CATEGORIES:Galleries & Exhibits
ATTACH;FMTTYPE=image/png:https://www.visitwesterville.org/wp-content/uploads/2024/09/Abstracts.png
END:VEVENT
BEGIN:VEVENT
DTSTART;TZID=America/New_York:20240826T103000
DTEND;TZID=America/New_York:20240826T160000
DTSTAMP:20260422T053149
CREATED:20240916T140940Z
LAST-MODIFIED:20240916T140940Z
UID:10006341-1724668200-1724688000@www.visitwesterville.org
SUMMARY:Only Abstract Will Do
DESCRIPTION:This exhibition features abstract art (1953 – 2023) from Otterbein’s permanent collection. The scope includes Otterbein students and faculty\, as well as other local and global artists. The selections explore how abstraction can function as a unifying language of human experience\, ideas\, and emotions. Immerse yourself in the colors\, forms\, and atmosphere that only abstract art can engender.
URL:https://www.visitwesterville.org/event/only-abstract-will-do/2024-08-26/
LOCATION:Fisher Gallery at Otterbein University\, 27 S. Grove St.\, Westerville\, OH\, 43081\, United States
CATEGORIES:Galleries & Exhibits
ATTACH;FMTTYPE=image/png:https://www.visitwesterville.org/wp-content/uploads/2024/09/Abstracts.png
END:VEVENT
BEGIN:VEVENT
DTSTART;VALUE=DATE:20240223
DTEND;VALUE=DATE:20240506
DTSTAMP:20260422T053149
CREATED:20240223T182719Z
LAST-MODIFIED:20240223T183043Z
UID:10001387-1708646400-1714953599@www.visitwesterville.org
SUMMARY:Oleksii Koval: The ABC of Enamel
DESCRIPTION:The ABC of Enamel features Oleksii Koval’s mixed-media technique that incorporates hot enamel and etching\, and that includes the artist’s Ukrainian series\, Spring is Coming\, Alphabet of the Big City\, Jungle\, Nu\, and other individual works. The exhibition expresses the beauty and harmony of the world and the joy of exploring and communicating with it.
URL:https://www.visitwesterville.org/event/oleksii-koval-the-abc-of-enamel-2/
LOCATION:Fisher Gallery at Otterbein University\, 27 S. Grove St.\, Westerville\, OH\, 43081\, United States
CATEGORIES:Arts,Galleries & Exhibits
ATTACH;FMTTYPE=image/png:https://www.visitwesterville.org/wp-content/uploads/2022/08/Fisher.png
END:VEVENT
END:VCALENDAR