BEGIN:VCALENDAR
VERSION:2.0
PRODID:-//Visit Westerville - ECPv6.15.20//NONSGML v1.0//EN
CALSCALE:GREGORIAN
METHOD:PUBLISH
X-ORIGINAL-URL:https://www.visitwesterville.org
X-WR-CALDESC:Events for Visit Westerville
REFRESH-INTERVAL;VALUE=DURATION:PT1H
X-Robots-Tag:noindex
X-PUBLISHED-TTL:PT1H
BEGIN:VTIMEZONE
TZID:America/New_York
BEGIN:DAYLIGHT
TZOFFSETFROM:-0500
TZOFFSETTO:-0400
TZNAME:EDT
DTSTART:20230312T070000
END:DAYLIGHT
BEGIN:STANDARD
TZOFFSETFROM:-0400
TZOFFSETTO:-0500
TZNAME:EST
DTSTART:20231105T060000
END:STANDARD
BEGIN:DAYLIGHT
TZOFFSETFROM:-0500
TZOFFSETTO:-0400
TZNAME:EDT
DTSTART:20240310T070000
END:DAYLIGHT
BEGIN:STANDARD
TZOFFSETFROM:-0400
TZOFFSETTO:-0500
TZNAME:EST
DTSTART:20241103T060000
END:STANDARD
BEGIN:DAYLIGHT
TZOFFSETFROM:-0500
TZOFFSETTO:-0400
TZNAME:EDT
DTSTART:20250309T070000
END:DAYLIGHT
BEGIN:STANDARD
TZOFFSETFROM:-0400
TZOFFSETTO:-0500
TZNAME:EST
DTSTART:20251102T060000
END:STANDARD
BEGIN:DAYLIGHT
TZOFFSETFROM:-0500
TZOFFSETTO:-0400
TZNAME:EDT
DTSTART:20260308T070000
END:DAYLIGHT
BEGIN:STANDARD
TZOFFSETFROM:-0400
TZOFFSETTO:-0500
TZNAME:EST
DTSTART:20261101T060000
END:STANDARD
BEGIN:DAYLIGHT
TZOFFSETFROM:-0500
TZOFFSETTO:-0400
TZNAME:EDT
DTSTART:20270314T070000
END:DAYLIGHT
BEGIN:STANDARD
TZOFFSETFROM:-0400
TZOFFSETTO:-0500
TZNAME:EST
DTSTART:20271107T060000
END:STANDARD
END:VTIMEZONE
BEGIN:VEVENT
DTSTART;TZID=America/New_York:20260418T090000
DTEND;TZID=America/New_York:20260418T120000
DTSTAMP:20260422T143858
CREATED:20260306T161538Z
LAST-MODIFIED:20260306T161538Z
UID:10009749-1776502800-1776513600@www.visitwesterville.org
SUMMARY:Hustle for Habitat 5K
DESCRIPTION:Lace up your running shoes and join the community for the Hustle for Habitat 5K at Hoff Woods Park in Westerville. This family-friendly run and walk supports the Westerville Habitat Partnership\, helping raise funds for local efforts that support Habitat for Humanity homebuilding projects in the region. \nParticipants of all ages and experience levels are welcome to run\, jog\, or walk the 5K course while enjoying the scenic surroundings of Hoff Woods Park. The event brings together community members\, volunteers\, and supporters for a morning focused on fitness\, community\, and building homes and hope. \nDate: Saturday\, April 18\, 2026Start Time: 9:00 AMLocation: Hoff Woods Park\, Westerville \nWhether you’re racing for time or walking with friends and family\, the Hustle for Habitat 5K is a meaningful way to support affordable housing initiatives in the Westerville community.
URL:https://www.visitwesterville.org/event/hustle-for-habitat-5k-westerville/
LOCATION:Hoff Woods Park\, 556 McCorkle Blvd.\, Westerville\, OH\, 43082\, United States
ATTACH;FMTTYPE=image/png:https://www.visitwesterville.org/wp-content/uploads/2026/03/genericImage-websiteLogo-244631-1735649075.8152-0.bNC-CZ.png
END:VEVENT
BEGIN:VEVENT
DTSTART;TZID=America/New_York:20260418T090000
DTEND;TZID=America/New_York:20260418T110000
DTSTAMP:20260422T143858
CREATED:20260402T150441Z
LAST-MODIFIED:20260402T150441Z
UID:10009844-1776502800-1776510000@www.visitwesterville.org
SUMMARY:2nd Annual Hustle for Habitat 5K Run/Walk
DESCRIPTION:WHP invites you to join us for our 2nd Annual “Hustle for Habitat” 5K run/walk at Hoff Woods Park on Saturday\, April 18\, 2026.  \nRegister to participate in the run or walk.
URL:https://www.visitwesterville.org/event/2nd-annual-hustle-for-habitat-5k-run-walk/
LOCATION:Hoff Woods Park\, 556 McCorkle Blvd.\, Westerville\, OH\, 43082\, United States
CATEGORIES:Sports & Recreation
ATTACH;FMTTYPE=image/jpeg:https://www.visitwesterville.org/wp-content/uploads/2024/01/TO-COOP_westerville-10.jpg
END:VEVENT
BEGIN:VEVENT
DTSTART;TZID=America/New_York:20260328T080000
DTEND;TZID=America/New_York:20260328T100000
DTSTAMP:20260422T143858
CREATED:20260306T112944Z
LAST-MODIFIED:20260306T112944Z
UID:10008940-1774684800-1774692000@www.visitwesterville.org
SUMMARY:Westerville Bunny Hop 5K
DESCRIPTION:Kick off spring with the Westerville Parks Foundation Bunny Hop 5K\, a family-friendly run and walk held at Hoff Woods Park. Runners and walkers of all ages are invited to hit the course beginning at 8 AM\, followed by a 100-meter kids dash at 9 AM. \nParticipants receive a race T-shirt\, finisher medal\, and post-race treats while supplies last. After the race\, stick around for the Spring Eggstravaganza\, featuring egg hunts\, inflatables\, family activities\, and food trucks. \nProceeds support the Westerville Parks Foundation and help maintain parks\, expand arts programming\, and ensure recreation opportunities remain accessible for the community.
URL:https://www.visitwesterville.org/event/westerville-bunny-hop-5k/
LOCATION:Hoff Woods Park\, 556 McCorkle Blvd.\, Westerville\, OH\, 43082\, United States
ATTACH;FMTTYPE=image/jpeg:https://www.visitwesterville.org/wp-content/uploads/2026/03/genericImage-websiteLogo-270701-1766524510.7652-0.bPsWzE.jpg
END:VEVENT
BEGIN:VEVENT
DTSTART;TZID=America/New_York:20240408T140000
DTEND;TZID=America/New_York:20240408T160000
DTSTAMP:20260422T143858
CREATED:20240201T032949Z
LAST-MODIFIED:20240206T183628Z
UID:10001360-1712584800-1712592000@www.visitwesterville.org
SUMMARY:Total Solar Eclipse Viewing Party
DESCRIPTION:A total solar eclipse happens when the Moon passes between the Sun and Earth\, completely blocking the face of the Sun. The sky will darken as if it were dawn or dusk.  \nOn the afternoon of Monday\, April 8\, 2024\, Ohio will be one of the states to experience a total solar eclipse during the Great North American Solar Eclipse! Westerville will be one of the best places to view the total eclipse\, with a 99.9% totality. \nThis event is a family-friendly event designed for families and kids ages 5 and up featuring yard games\, a DJ\, photo booth\, eclipse-related arts and crafts\, educational offerings and activities\, watch live video of footage from NASA and view the eclipse through a telescope. \nThe first 500 attendees will receive a gift bag containing various giveaways\, eclipse glasses and fun eclipse themed snacks like Moon Pies\, Sun Chips and Capri Sun (limit one bag per family). \nLearn more here
URL:https://www.visitwesterville.org/event/total-solar-eclipse-viewing-party/
LOCATION:Hoff Woods Park\, 556 McCorkle Blvd.\, Westerville\, OH\, 43082\, United States
CATEGORIES:Miscellaneous
ATTACH;FMTTYPE=image/png:https://www.visitwesterville.org/wp-content/uploads/2024/01/Photo-by-Gary-Gardiner-8.png
END:VEVENT
END:VCALENDAR