BEGIN:VCALENDAR
VERSION:2.0
PRODID:-//Visit Westerville - ECPv6.15.20//NONSGML v1.0//EN
CALSCALE:GREGORIAN
METHOD:PUBLISH
X-ORIGINAL-URL:https://www.visitwesterville.org
X-WR-CALDESC:Events for Visit Westerville
REFRESH-INTERVAL;VALUE=DURATION:PT1H
X-Robots-Tag:noindex
X-PUBLISHED-TTL:PT1H
BEGIN:VTIMEZONE
TZID:America/New_York
BEGIN:DAYLIGHT
TZOFFSETFROM:-0500
TZOFFSETTO:-0400
TZNAME:EDT
DTSTART:20230312T070000
END:DAYLIGHT
BEGIN:STANDARD
TZOFFSETFROM:-0400
TZOFFSETTO:-0500
TZNAME:EST
DTSTART:20231105T060000
END:STANDARD
BEGIN:DAYLIGHT
TZOFFSETFROM:-0500
TZOFFSETTO:-0400
TZNAME:EDT
DTSTART:20240310T070000
END:DAYLIGHT
BEGIN:STANDARD
TZOFFSETFROM:-0400
TZOFFSETTO:-0500
TZNAME:EST
DTSTART:20241103T060000
END:STANDARD
BEGIN:DAYLIGHT
TZOFFSETFROM:-0500
TZOFFSETTO:-0400
TZNAME:EDT
DTSTART:20250309T070000
END:DAYLIGHT
BEGIN:STANDARD
TZOFFSETFROM:-0400
TZOFFSETTO:-0500
TZNAME:EST
DTSTART:20251102T060000
END:STANDARD
BEGIN:DAYLIGHT
TZOFFSETFROM:-0500
TZOFFSETTO:-0400
TZNAME:EDT
DTSTART:20260308T070000
END:DAYLIGHT
BEGIN:STANDARD
TZOFFSETFROM:-0400
TZOFFSETTO:-0500
TZNAME:EST
DTSTART:20261101T060000
END:STANDARD
END:VTIMEZONE
BEGIN:VEVENT
DTSTART;TZID=America/New_York:20251025T173000
DTEND;TZID=America/New_York:20251025T223000
DTSTAMP:20260422T102946
CREATED:20251008T004933Z
LAST-MODIFIED:20251008T004933Z
UID:10007703-1761413400-1761431400@www.visitwesterville.org
SUMMARY:Wicked Westerville: Second Annual Symphony Gala
DESCRIPTION:Ease on down the yellow brick road and into an evening of magic\, music\, and celebration. \nThis year\, the Westerville Symphony’s annual gala becomes Wicked Westerville\, a dazzling Oz-themed experience filled with color\, character\, and symphonic sparkle. Whether you’re dreaming of Kansas or ready to dance in the Emerald City\, this is your moment to click your heels\, dress to impress\, and celebrate the power of music in our community. \nGuests will enjoy cocktails\, dinner\, live performances\, and a themed afterparty straight out of the Ozdust Ballroom. Proceeds support the Symphony’s mission to keep orchestral music vibrant\, accessible\, and alive in the heart of Westerville.
URL:https://www.visitwesterville.org/event/wicked-westerville-second-annual-symphony-gala/
LOCATION:The Lakes Golf and Country Club\, 6740 Worthington Rd.\, Westerville\, OH\, 43082\, United States
ATTACH;FMTTYPE=image/avif:https://www.visitwesterville.org/wp-content/uploads/2025/10/b63efe_ae20933761144c79af298b79cad7421dmv2.avif
END:VEVENT
BEGIN:VEVENT
DTSTART;TZID=America/New_York:20241019T180000
DTEND;TZID=America/New_York:20241019T210000
DTSTAMP:20260422T102946
CREATED:20240916T133504Z
LAST-MODIFIED:20240916T133504Z
UID:10005919-1729360800-1729371600@www.visitwesterville.org
SUMMARY:A Bridgerton Affair: Westerville Symphony Gala 2024
DESCRIPTION:Dearest Gentle Readers\,\n\nThe town is abuzz with the most thrilling news! Prepare yourselves for a soiree unlike any other\, celebrating the diamond of this season\, the Westerville Symphony. Mark your calendars for Saturday\, October 19th at 6:00pm\, when the grand doors of The Lakes Golf and Country Club will swing open to transport you to a world of elegance and revelry for the Westerville Symphony 2024 Gala: A Bridgerton Affair\, presented by ALCA Associates.\n\nIndulge in a sumptuous feast fit for a duke or duchess\, featuring exquisite Bridgerton-inspired delicacies. Sip delicate teas and savor delectable finger sandwiches\, accompanied by a selection of fine wines and a well-stocked cash bar.\n\nPrepare to be swept away by the melodies of the Westerville Symphony’s talented musicians\, as they serenade you with enchanting tunes that will set your hearts aflutter.\n\nStroll through a moonlit garden\, where the whispers of secrets mingle with the rustling leaves\, or embark on a romantic carriage ride fit for a queen. You may even try your hand at Bridgerton trivia or find a prize during our delightful scavenger hunt!\n\nFor those seeking treasures worthy of the town’s most discerning tastes\, a silent auction awaits\, brimming with exquisite items that are sure to spark a bidding war.\n\nRemember\, dear readers\, this is an occasion not to be missed. A night of music\, merriment\, and memories that will linger long after the last dance has ended. And fear not\, even the most ardent Buckeye devotee will find no conflict with this soiree\, as the gridiron rests on this fine eve.\nSecure your place in the annals of Westerville’s social calendar and support the Westerville Symphony’s noble cause. Single tickets sell at $137.50 in the month of September ($150 on October 1st)\, or purchase a corporate table (seats at $1\,100. Go to https://westervillesymphony.org/bridgerton/ for all the details.\n\nYours Truly\,\nLady Whistledown\nP.S. Dress to impress\, for this is a night where fashion reigns supreme. Channel your inner Bridgerton!
URL:https://www.visitwesterville.org/event/a-bridgerton-affair-westerville-symphony-gala-2024/
LOCATION:The Lakes Golf and Country Club\, 6740 Worthington Rd.\, Westerville\, OH\, 43082\, United States
CATEGORIES:Live Music & Performances
ATTACH;FMTTYPE=image/jpeg:https://www.visitwesterville.org/wp-content/uploads/2024/09/Bridgerton-Affair.jpg
END:VEVENT
END:VCALENDAR